BEGIN:VCALENDAR
VERSION:2.0
PRODID:-//Norwich Assembly of God - ECPv6.15.20//NONSGML v1.0//EN
CALSCALE:GREGORIAN
METHOD:PUBLISH
X-WR-CALNAME:Norwich Assembly of God
X-ORIGINAL-URL:https://norwichag.org
X-WR-CALDESC:Events for Norwich Assembly of God
REFRESH-INTERVAL;VALUE=DURATION:PT1H
X-Robots-Tag:noindex
X-PUBLISHED-TTL:PT1H
BEGIN:VTIMEZONE
TZID:America/New_York
BEGIN:DAYLIGHT
TZOFFSETFROM:-0500
TZOFFSETTO:-0400
TZNAME:EDT
DTSTART:20220313T070000
END:DAYLIGHT
BEGIN:STANDARD
TZOFFSETFROM:-0400
TZOFFSETTO:-0500
TZNAME:EST
DTSTART:20221106T060000
END:STANDARD
BEGIN:DAYLIGHT
TZOFFSETFROM:-0500
TZOFFSETTO:-0400
TZNAME:EDT
DTSTART:20230312T070000
END:DAYLIGHT
BEGIN:STANDARD
TZOFFSETFROM:-0400
TZOFFSETTO:-0500
TZNAME:EST
DTSTART:20231105T060000
END:STANDARD
BEGIN:DAYLIGHT
TZOFFSETFROM:-0500
TZOFFSETTO:-0400
TZNAME:EDT
DTSTART:20240310T070000
END:DAYLIGHT
BEGIN:STANDARD
TZOFFSETFROM:-0400
TZOFFSETTO:-0500
TZNAME:EST
DTSTART:20241103T060000
END:STANDARD
END:VTIMEZONE
BEGIN:VEVENT
DTSTART;TZID=America/New_York:20230719T183000
DTEND;TZID=America/New_York:20230719T200000
DTSTAMP:20260425T120603
CREATED:20230622T220448Z
LAST-MODIFIED:20230622T220448Z
UID:10402-1689791400-1689796800@norwichag.org
SUMMARY:Bible Study
DESCRIPTION:Join us as we continue our study of the Book of Job.
URL:https://norwichag.org/event/bible-study-67/
LOCATION:Norwich Assembly of God\, 340 New London Tpke\, Norwich\, CT\, 06360\, United States
CATEGORIES:Church
ATTACH;FMTTYPE=image/jpeg:https://norwichag.org/wp-content/uploads/2023/04/bible-gca27f028e_640.jpg
END:VEVENT
BEGIN:VEVENT
DTSTART;TZID=America/New_York:20230719T180000
DTEND;TZID=America/New_York:20230719T200000
DTSTAMP:20260425T120603
CREATED:20230622T221259Z
LAST-MODIFIED:20230622T221259Z
UID:10406-1689789600-1689796800@norwichag.org
SUMMARY:Discipleship Group
DESCRIPTION:All are welcome to Jim & Nancy’s for food\, fellowship and study.
URL:https://norwichag.org/event/discipleship-group-10/
LOCATION:Jim & Nancy’s House\, Lisbon\, CT\, United States
CATEGORIES:Church
ATTACH;FMTTYPE=image/jpeg:https://norwichag.org/wp-content/uploads/2020/04/3ACB6A63-11D5-42F9-8494-711B979B897C.jpeg
END:VEVENT
BEGIN:VEVENT
DTSTART;TZID=America/New_York:20230716T180000
DTEND;TZID=America/New_York:20230716T193000
DTSTAMP:20260425T120603
CREATED:20230622T211329Z
LAST-MODIFIED:20230622T211329Z
UID:10391-1689530400-1689535800@norwichag.org
SUMMARY:Prayer Meeting
DESCRIPTION:Join us as we pray for our homes\, church\, region and country.
URL:https://norwichag.org/event/prayer-meeting-10/
LOCATION:CT
CATEGORIES:Church
ATTACH;FMTTYPE=image/jpeg:https://norwichag.org/wp-content/uploads/2020/06/guy-2617866_640.jpg
END:VEVENT
BEGIN:VEVENT
DTSTART;TZID=America/New_York:20230716T093000
DTEND;TZID=America/New_York:20230716T110000
DTSTAMP:20260425T120603
CREATED:20230622T212338Z
LAST-MODIFIED:20230622T212338Z
UID:10396-1689499800-1689505200@norwichag.org
SUMMARY:Missions Sunday
DESCRIPTION:Please remember our missionaries in your prayers and giving.
URL:https://norwichag.org/event/missions-sunday-42/
LOCATION:CT
CATEGORIES:Church
ATTACH;FMTTYPE=image/jpeg:https://norwichag.org/wp-content/uploads/2022/01/church-gadf58fa26_640.jpg
END:VEVENT
BEGIN:VEVENT
DTSTART;TZID=America/New_York:20230712T183000
DTEND;TZID=America/New_York:20230712T200000
DTSTAMP:20260425T120603
CREATED:20230622T172240Z
LAST-MODIFIED:20230622T172240Z
UID:10386-1689186600-1689192000@norwichag.org
SUMMARY:Bible Study
DESCRIPTION:Join us as we continue our study of Job 3.
URL:https://norwichag.org/event/bible-study-66/
LOCATION:CT
CATEGORIES:Church
ATTACH;FMTTYPE=image/jpeg:https://norwichag.org/wp-content/uploads/2016/10/hands.jpg
END:VEVENT
BEGIN:VEVENT
DTSTART;TZID=America/New_York:20230712T180000
DTEND;TZID=America/New_York:20230712T200000
DTSTAMP:20260425T120603
CREATED:20230622T171841Z
LAST-MODIFIED:20230622T171841Z
UID:10384-1689184800-1689192000@norwichag.org
SUMMARY:Discipleship Group
DESCRIPTION:All are welcome to Jim & Nancy’s for food\, fellowship and study.
URL:https://norwichag.org/event/discipleship-group-9/
LOCATION:CT
CATEGORIES:Church
ATTACH;FMTTYPE=image/jpeg:https://norwichag.org/wp-content/uploads/2020/02/scripture-519599_640.jpg
END:VEVENT
BEGIN:VEVENT
DTSTART;TZID=America/New_York:20230709T180000
DTEND;TZID=America/New_York:20230709T193000
DTSTAMP:20260425T120603
CREATED:20230622T171625Z
LAST-MODIFIED:20230622T171625Z
UID:10382-1688925600-1688931000@norwichag.org
SUMMARY:Revival Cry Prayer Meeting
DESCRIPTION:Join us as we seek God for revival!
URL:https://norwichag.org/event/revival-cry-prayer-meeting-40/
LOCATION:CT
CATEGORIES:Church
ATTACH;FMTTYPE=image/jpeg:https://norwichag.org/wp-content/uploads/2023/05/hands-g14b431f18_1920.jpg
END:VEVENT
BEGIN:VEVENT
DTSTART;TZID=America/New_York:20230709T093000
DTEND;TZID=America/New_York:20230709T110000
DTSTAMP:20260425T120603
CREATED:20230622T171507Z
LAST-MODIFIED:20230622T171507Z
UID:10380-1688895000-1688900400@norwichag.org
SUMMARY:Communion Sunday
DESCRIPTION:Join us as we commemorate the suffering and death of the Lord Jesus Christ for our sin.
URL:https://norwichag.org/event/communion-sunday-40/
LOCATION:CT
CATEGORIES:Church
ATTACH;FMTTYPE=image/jpeg:https://norwichag.org/wp-content/uploads/2019/04/75C93700-D454-41AB-ABC3-0E94499FE710.jpeg
END:VEVENT
BEGIN:VEVENT
DTSTART;TZID=America/New_York:20230708T090000
DTEND;TZID=America/New_York:20230708T110000
DTSTAMP:20260425T120603
CREATED:20230620T171452Z
LAST-MODIFIED:20230620T171452Z
UID:10373-1688806800-1688814000@norwichag.org
SUMMARY:Men's Breakfast
DESCRIPTION:All men are invited for a time of prayer\, food and encouragement.\nPlease bring a breakfast item to share.
URL:https://norwichag.org/event/mens-breakfast-35/
LOCATION:CT
CATEGORIES:Church
ATTACH;FMTTYPE=image/jpeg:https://norwichag.org/wp-content/uploads/2021/01/healthy-2515483_640.jpg
END:VEVENT
BEGIN:VEVENT
DTSTART;TZID=America/New_York:20230705T183000
DTEND;TZID=America/New_York:20230705T200000
DTSTAMP:20260425T120603
CREATED:20230620T170628Z
LAST-MODIFIED:20230620T170628Z
UID:10368-1688581800-1688587200@norwichag.org
SUMMARY:Bible Study
DESCRIPTION:Join us as we continue our study of the Book of Job.\nAll are welcome!
URL:https://norwichag.org/event/bible-study-65/
LOCATION:CT
CATEGORIES:Church
ATTACH;FMTTYPE=image/jpeg:https://norwichag.org/wp-content/uploads/2023/04/bible-gca27f028e_640.jpg
END:VEVENT
BEGIN:VEVENT
DTSTART;TZID=America/New_York:20230705T180000
DTEND;TZID=America/New_York:20230705T200000
DTSTAMP:20260425T120603
CREATED:20230620T170900Z
LAST-MODIFIED:20230620T170900Z
UID:10370-1688580000-1688587200@norwichag.org
SUMMARY:Discipleship Group
DESCRIPTION:Join us at Jim and Nancy’s for food\, fellowship and Bible study in the book of Matthew. All are welcome.
URL:https://norwichag.org/event/discipleship-group-8/
LOCATION:CT
CATEGORIES:Church
ATTACH;FMTTYPE=image/jpeg:https://norwichag.org/wp-content/uploads/2020/04/3ACB6A63-11D5-42F9-8494-711B979B897C.jpeg
END:VEVENT
BEGIN:VEVENT
DTSTART;TZID=America/New_York:20230702T180000
DTEND;TZID=America/New_York:20230702T203000
DTSTAMP:20260425T120603
CREATED:20230625T170009Z
LAST-MODIFIED:20230625T170009Z
UID:10414-1688320800-1688329800@norwichag.org
SUMMARY:Prayer Meeting
DESCRIPTION:Join us as we pray for our church\, families and community!
URL:https://norwichag.org/event/prayer-meeting-12/
LOCATION:CT
CATEGORIES:Church
ATTACH;FMTTYPE=image/jpeg:https://norwichag.org/wp-content/uploads/2020/12/cross-4433376_640-1-1.jpg
END:VEVENT
BEGIN:VEVENT
DTSTART;TZID=America/New_York:20230702T093000
DTEND;TZID=America/New_York:20230702T110000
DTSTAMP:20260425T120603
CREATED:20230620T170236Z
LAST-MODIFIED:20230620T170236Z
UID:10366-1688290200-1688295600@norwichag.org
SUMMARY:Sunday Morning Worship Service
DESCRIPTION:Join us for worship this Sunday!\nWarren Varney will be sharing the Word!\nAll are welcome!
URL:https://norwichag.org/event/sunday-morning-worship-service-2/
LOCATION:CT
CATEGORIES:Church
ATTACH;FMTTYPE=image/jpeg:https://norwichag.org/wp-content/uploads/2015/08/file0001900070140.jpg
END:VEVENT
BEGIN:VEVENT
DTSTART;TZID=America/New_York:20230628T180000
DTEND;TZID=America/New_York:20230628T200000
DTSTAMP:20260425T120603
CREATED:20230620T165719Z
LAST-MODIFIED:20230620T165719Z
UID:10364-1687975200-1687982400@norwichag.org
SUMMARY:Discipleship Group
DESCRIPTION:Join us for food and fellowship as we gather at Jim and Nancy’s for Discipleship Group. We are studying the Gospel of Matthew.
URL:https://norwichag.org/event/discipleship-group-7/
LOCATION:CT
CATEGORIES:Church
ATTACH;FMTTYPE=image/jpeg:https://norwichag.org/wp-content/uploads/2021/01/the-bible-4046270_640.jpg
END:VEVENT
BEGIN:VEVENT
DTSTART;TZID=America/New_York:20230625T180000
DTEND;TZID=America/New_York:20230625T193000
DTSTAMP:20260425T120603
CREATED:20230622T210741Z
LAST-MODIFIED:20230622T210741Z
UID:10389-1687716000-1687721400@norwichag.org
SUMMARY:Prayer Meeting
DESCRIPTION:Join us as we pray for our homes\, church\, region and country.
URL:https://norwichag.org/event/prayer-meeting-9/
LOCATION:CT
CATEGORIES:Church
ATTACH;FMTTYPE=image/jpeg:https://norwichag.org/wp-content/uploads/2020/12/cross-4433376_640-1-1.jpg
END:VEVENT
BEGIN:VEVENT
DTSTART;TZID=America/New_York:20230625T093000
DTEND;TZID=America/New_York:20230625T110000
DTSTAMP:20260425T120603
CREATED:20230620T164857Z
LAST-MODIFIED:20230620T164857Z
UID:10360-1687685400-1687690800@norwichag.org
SUMMARY:Sunday Morning Worship Service
DESCRIPTION:Join us as we lift up Jesus together. Pastor Randy will be continuing his series of messages entitled “Navigating Sodom.”
URL:https://norwichag.org/event/sunday-morning-worship-service/
LOCATION:CT
CATEGORIES:Church
ATTACH;FMTTYPE=image/jpeg:https://norwichag.org/wp-content/uploads/2020/02/bible-1948778_640.jpg
END:VEVENT
BEGIN:VEVENT
DTSTART;TZID=America/New_York:20230624T130000
DTEND;TZID=America/New_York:20230624T150000
DTSTAMP:20260425T120603
CREATED:20230620T164659Z
LAST-MODIFIED:20230620T164659Z
UID:10358-1687611600-1687618800@norwichag.org
SUMMARY:Outreach Ministry
DESCRIPTION:Join us at the church for prayer before we go downtown to Howard Brown Park to pass out tracts\, pray\, witness and distribute refreshments. All are welcome!
URL:https://norwichag.org/event/outreach-ministry/
LOCATION:CT
CATEGORIES:Church
ATTACH;FMTTYPE=image/jpeg:https://norwichag.org/wp-content/uploads/2019/07/2B3536CD-49BC-457D-849F-C0E9AF06D8D6.jpeg
END:VEVENT
BEGIN:VEVENT
DTSTART;TZID=America/New_York:20230621T183000
DTEND;TZID=America/New_York:20230621T200000
DTSTAMP:20260425T120603
CREATED:20230620T163629Z
LAST-MODIFIED:20230620T163629Z
UID:10354-1687372200-1687377600@norwichag.org
SUMMARY:Bible Study
DESCRIPTION:We are studying Job\, chapter 3\, this week\, which is entitled “I Wish I Was Never Born.”
URL:https://norwichag.org/event/bible-study-64/
LOCATION:CT
CATEGORIES:Church
ATTACH;FMTTYPE=image/jpeg:https://norwichag.org/wp-content/uploads/2023/04/bible-gca27f028e_640.jpg
END:VEVENT
BEGIN:VEVENT
DTSTART;TZID=America/New_York:20230621T180000
DTEND;TZID=America/New_York:20230621T200000
DTSTAMP:20260425T120603
CREATED:20230620T163807Z
LAST-MODIFIED:20230620T163807Z
UID:10356-1687370400-1687377600@norwichag.org
SUMMARY:Discipleship Group
DESCRIPTION:Join us at Jim & Nancy’s for a time of fellowship and study. We are currently in Matthew 13.
URL:https://norwichag.org/event/discipleship-group-6/
LOCATION:CT
CATEGORIES:Church
ATTACH;FMTTYPE=image/jpeg:https://norwichag.org/wp-content/uploads/2021/08/adult-1869621_640.jpg
END:VEVENT
BEGIN:VEVENT
DTSTART;TZID=America/New_York:20230525T183000
DTEND;TZID=America/New_York:20230525T183000
DTSTAMP:20260425T120603
CREATED:20230521T004409Z
LAST-MODIFIED:20230521T004409Z
UID:10322-1685039400-1685039400@norwichag.org
SUMMARY:Week of Prayer for Pentecost
DESCRIPTION:Join us as we seek God for a fresh infilling of his Holy Spirit!
URL:https://norwichag.org/event/week-of-prayer-for-pentecost-3/
LOCATION:CT
CATEGORIES:Church
ATTACH;FMTTYPE=image/jpeg:https://norwichag.org/wp-content/uploads/2020/12/hand-4661763_640.jpg
END:VEVENT
BEGIN:VEVENT
DTSTART;TZID=America/New_York:20230524T183000
DTEND;TZID=America/New_York:20230524T200000
DTSTAMP:20260425T120603
CREATED:20230521T004240Z
LAST-MODIFIED:20230521T004240Z
UID:10320-1684953000-1684958400@norwichag.org
SUMMARY:Week of Prayer for Pentecost
DESCRIPTION:Join us as we seek God for a fresh infilling of his Holy Spirit!
URL:https://norwichag.org/event/week-of-prayer-for-pentecost-2/
LOCATION:CT
CATEGORIES:Church
ATTACH;FMTTYPE=image/jpeg:https://norwichag.org/wp-content/uploads/2020/12/hand-4661763_640.jpg
END:VEVENT
BEGIN:VEVENT
DTSTART;TZID=America/New_York:20230523T183000
DTEND;TZID=America/New_York:20230523T200000
DTSTAMP:20260425T120603
CREATED:20230521T004119Z
LAST-MODIFIED:20230521T004119Z
UID:10318-1684866600-1684872000@norwichag.org
SUMMARY:Week of Prayer for Pentecost
DESCRIPTION:Join us as we seek God for a fresh infilling of his Holy Spirit!
URL:https://norwichag.org/event/week-of-prayer-for-pentecost/
LOCATION:CT
CATEGORIES:Church
ATTACH;FMTTYPE=image/jpeg:https://norwichag.org/wp-content/uploads/2020/12/hand-4661763_640.jpg
END:VEVENT
BEGIN:VEVENT
DTSTART;TZID=America/New_York:20230522T183000
DTEND;TZID=America/New_York:20230522T200000
DTSTAMP:20260425T120603
CREATED:20230521T004030Z
LAST-MODIFIED:20230521T004030Z
UID:10316-1684780200-1684785600@norwichag.org
SUMMARY:Week of Prayer Pentecost
DESCRIPTION:Join us as we seek God for a fresh infilling of his Holy Spirit!
URL:https://norwichag.org/event/week-of-prayer-pentecost/
LOCATION:CT
CATEGORIES:Church
ATTACH;FMTTYPE=image/jpeg:https://norwichag.org/wp-content/uploads/2020/12/hand-4661763_640.jpg
END:VEVENT
BEGIN:VEVENT
DTSTART;TZID=America/New_York:20230521T180000
DTEND;TZID=America/New_York:20230521T193000
DTSTAMP:20260425T120603
CREATED:20230521T003838Z
LAST-MODIFIED:20230521T003838Z
UID:10314-1684692000-1684697400@norwichag.org
SUMMARY:Revival Cry Prayer Meeting
DESCRIPTION:Join us as we seek God for Revival!
URL:https://norwichag.org/event/revival-cry-prayer-meeting-39/
LOCATION:CT
CATEGORIES:Church
ATTACH;FMTTYPE=image/jpeg:https://norwichag.org/wp-content/uploads/2020/06/guy-2617866_640.jpg
END:VEVENT
BEGIN:VEVENT
DTSTART;TZID=America/New_York:20230521T093000
DTEND;TZID=America/New_York:20230521T110000
DTSTAMP:20260425T120603
CREATED:20230521T003723Z
LAST-MODIFIED:20230521T003723Z
UID:10312-1684661400-1684666800@norwichag.org
SUMMARY:Sunday Morning Worship
DESCRIPTION:Pastor Randy will be speaking from Acts 1 & 2\, “Praying Through Pain.”
URL:https://norwichag.org/event/sunday-morning-worship-6/
LOCATION:CT
CATEGORIES:Church
ATTACH;FMTTYPE=image/jpeg:https://norwichag.org/wp-content/uploads/2019/10/people-2585962_640.jpg
END:VEVENT
BEGIN:VEVENT
DTSTART;TZID=America/New_York:20230520T080000
DTEND;TZID=America/New_York:20230520T170000
DTSTAMP:20260425T120603
CREATED:20230521T004518Z
LAST-MODIFIED:20230521T004518Z
UID:10324-1684569600-1684602000@norwichag.org
SUMMARY:Week of Prayer for Pentecost
DESCRIPTION:Join us as we seek God for a fresh infilling of His Holy Spirit!
URL:https://norwichag.org/event/week-of-prayer-for-pentecost-4/
LOCATION:CT
CATEGORIES:Church
ATTACH;FMTTYPE=image/jpeg:https://norwichag.org/wp-content/uploads/2020/12/hand-4661763_640.jpg
END:VEVENT
BEGIN:VEVENT
DTSTART;TZID=America/New_York:20230503T183000
DTEND;TZID=America/New_York:20230503T200000
DTSTAMP:20260425T120603
CREATED:20230427T191351Z
LAST-MODIFIED:20230427T191351Z
UID:10290-1683138600-1683144000@norwichag.org
SUMMARY:Bible Study
DESCRIPTION:Join us as we continue our study of Job\, chapter 1.
URL:https://norwichag.org/event/bible-study-63/
LOCATION:CT
ATTACH;FMTTYPE=image/jpeg:https://norwichag.org/wp-content/uploads/2023/04/bible-gca27f028e_640.jpg
END:VEVENT
BEGIN:VEVENT
DTSTART;TZID=America/New_York:20230430T180000
DTEND;TZID=America/New_York:20230430T193000
DTSTAMP:20260425T120603
CREATED:20230427T190221Z
LAST-MODIFIED:20230427T190221Z
UID:10288-1682877600-1682883000@norwichag.org
SUMMARY:Revival Cry Prayer Meeting
DESCRIPTION:Join us as we seek God for revival in our hearts\, families\, church and communities.
URL:https://norwichag.org/event/revival-cry-prayer-meeting-38/
LOCATION:CT
CATEGORIES:Church
ATTACH;FMTTYPE=image/jpeg:https://norwichag.org/wp-content/uploads/2020/12/cross-4433376_640-1.jpg
END:VEVENT
BEGIN:VEVENT
DTSTART;TZID=America/New_York:20230430T093000
DTEND;TZID=America/New_York:20230430T113000
DTSTAMP:20260425T120603
CREATED:20230427T185547Z
LAST-MODIFIED:20230427T185547Z
UID:10286-1682847000-1682854200@norwichag.org
SUMMARY:Sunday Worship Service
DESCRIPTION:Join us for the final message in our series\, “Future’s End\,” entitled “The Final Chapter.” All are welcome.
URL:https://norwichag.org/event/sunday-worship-service/
LOCATION:CT
CATEGORIES:Church
ATTACH;FMTTYPE=image/jpeg:https://norwichag.org/wp-content/uploads/2020/04/cloud-143152_640.jpg
END:VEVENT
BEGIN:VEVENT
DTSTART;TZID=America/New_York:20230423T180000
DTEND;TZID=America/New_York:20230423T193000
DTSTAMP:20260425T120603
CREATED:20230418T153603Z
LAST-MODIFIED:20230418T153603Z
UID:10279-1682272800-1682278200@norwichag.org
SUMMARY:Revival Cry Prayer Meeting
DESCRIPTION:Join us as we seek God for revival in our lives\, families\, church and region!
URL:https://norwichag.org/event/revival-cry-prayer-meeting-37/
LOCATION:CT
CATEGORIES:Church
ATTACH;FMTTYPE=image/jpeg:https://norwichag.org/wp-content/uploads/2020/12/cross-4433376_640-1-1.jpg
END:VEVENT
END:VCALENDAR