BEGIN:VCALENDAR
VERSION:2.0
PRODID:-//Norwich Assembly of God - ECPv6.15.20//NONSGML v1.0//EN
CALSCALE:GREGORIAN
METHOD:PUBLISH
X-WR-CALNAME:Norwich Assembly of God
X-ORIGINAL-URL:https://norwichag.org
X-WR-CALDESC:Events for Norwich Assembly of God
REFRESH-INTERVAL;VALUE=DURATION:PT1H
X-Robots-Tag:noindex
X-PUBLISHED-TTL:PT1H
BEGIN:VTIMEZONE
TZID:America/New_York
BEGIN:DAYLIGHT
TZOFFSETFROM:-0500
TZOFFSETTO:-0400
TZNAME:EDT
DTSTART:20220313T070000
END:DAYLIGHT
BEGIN:STANDARD
TZOFFSETFROM:-0400
TZOFFSETTO:-0500
TZNAME:EST
DTSTART:20221106T060000
END:STANDARD
BEGIN:DAYLIGHT
TZOFFSETFROM:-0500
TZOFFSETTO:-0400
TZNAME:EDT
DTSTART:20230312T070000
END:DAYLIGHT
BEGIN:STANDARD
TZOFFSETFROM:-0400
TZOFFSETTO:-0500
TZNAME:EST
DTSTART:20231105T060000
END:STANDARD
BEGIN:DAYLIGHT
TZOFFSETFROM:-0500
TZOFFSETTO:-0400
TZNAME:EDT
DTSTART:20240310T070000
END:DAYLIGHT
BEGIN:STANDARD
TZOFFSETFROM:-0400
TZOFFSETTO:-0500
TZNAME:EST
DTSTART:20241103T060000
END:STANDARD
END:VTIMEZONE
BEGIN:VEVENT
DTSTART;TZID=America/New_York:20231014T090000
DTEND;TZID=America/New_York:20231014T110000
DTSTAMP:20260424T225501
CREATED:20230928T211355Z
LAST-MODIFIED:20230928T211355Z
UID:10548-1697274000-1697281200@norwichag.org
SUMMARY:Men's Breakfast
DESCRIPTION:Join us for food\, fellowship\, prayer and encouragement. Please bring a breakfast item to share. All men are welcome.
URL:https://norwichag.org/event/mens-breakfast-37/
CATEGORIES:Church
ATTACH;FMTTYPE=image/jpeg:https://norwichag.org/wp-content/uploads/2018/05/file5251285980231.jpg
END:VEVENT
BEGIN:VEVENT
DTSTART;TZID=America/New_York:20231012T103000
DTEND;TZID=America/New_York:20231012T120000
DTSTAMP:20260424T225501
CREATED:20230928T211126Z
LAST-MODIFIED:20230928T211126Z
UID:10546-1697106600-1697112000@norwichag.org
SUMMARY:Ladies Bible Study
DESCRIPTION:All ladies are invited to join us for our Bible Study of the book of Ruth!
URL:https://norwichag.org/event/ladies-bible-study-10/
CATEGORIES:Church
ATTACH;FMTTYPE=image/jpeg:https://norwichag.org/wp-content/uploads/2018/04/708BA7D3-F37C-41C4-8270-EACD5565A41F.jpeg
END:VEVENT
BEGIN:VEVENT
DTSTART;TZID=America/New_York:20231008T093000
DTEND;TZID=America/New_York:20231008T110000
DTSTAMP:20260424T225501
CREATED:20230928T212214Z
LAST-MODIFIED:20230928T212214Z
UID:10553-1696757400-1696762800@norwichag.org
SUMMARY:Special Speaker Warren Varney
DESCRIPTION:Make Plans to worship God with us. Warren Varney will be the speaker.
URL:https://norwichag.org/event/special-speaker-warren-varney-2/
CATEGORIES:Church
ATTACH;FMTTYPE=image/jpeg:https://norwichag.org/wp-content/uploads/2021/07/Varney.jpg
END:VEVENT
BEGIN:VEVENT
DTSTART;TZID=America/New_York:20231001T180000
DTEND;TZID=America/New_York:20231001T193000
DTSTAMP:20260424T225501
CREATED:20230928T210027Z
LAST-MODIFIED:20230928T210027Z
UID:10537-1696183200-1696188600@norwichag.org
SUMMARY:Revival Cry Prayer Meeting
DESCRIPTION:Make time to join us as we seek God for revival in New London County!
URL:https://norwichag.org/event/revival-cry-prayer-meeting-45/
CATEGORIES:Church
ATTACH;FMTTYPE=image/jpeg:https://norwichag.org/wp-content/uploads/2020/12/cross-4433376_640-1-1.jpg
END:VEVENT
BEGIN:VEVENT
DTSTART;TZID=America/New_York:20231001T093000
DTEND;TZID=America/New_York:20231001T110000
DTSTAMP:20260424T225501
CREATED:20230928T205745Z
LAST-MODIFIED:20230928T205745Z
UID:10535-1696152600-1696158000@norwichag.org
SUMMARY:Communion Sunday
DESCRIPTION:Join us as remember the Lord’s suffering death for our sin.
URL:https://norwichag.org/event/communion-sunday-42/
CATEGORIES:Church
ATTACH;FMTTYPE=image/jpeg:https://norwichag.org/wp-content/uploads/2019/03/holy-communion-3498484_640-1.jpg
END:VEVENT
BEGIN:VEVENT
DTSTART;TZID=America/New_York:20230930T090000
DTEND;TZID=America/New_York:20230930T160000
DTSTAMP:20260424T225501
CREATED:20230923T193220Z
LAST-MODIFIED:20230923T193220Z
UID:10533-1696064400-1696089600@norwichag.org
SUMMARY:Work Day
DESCRIPTION:Volunteers are needed for small repairs\, scrapping\, painting\, cleaning\, and other items. See Jim for more details.
URL:https://norwichag.org/event/work-day-8/
ATTACH;FMTTYPE=image/jpeg:https://norwichag.org/wp-content/uploads/2019/10/lego-568039_640.jpg
END:VEVENT
BEGIN:VEVENT
DTSTART;TZID=America/New_York:20230928T103000
DTEND;TZID=America/New_York:20230928T120000
DTSTAMP:20260424T225501
CREATED:20230923T192839Z
LAST-MODIFIED:20230923T192839Z
UID:10531-1695897000-1695902400@norwichag.org
SUMMARY:Ladies Bible Study
DESCRIPTION:All ladies are invited to join us for our study of the Book of Ruth.
URL:https://norwichag.org/event/ladies-bible-study-9/
CATEGORIES:Church
ATTACH;FMTTYPE=image/jpeg:https://norwichag.org/wp-content/uploads/2020/05/bible-276067_640.jpg
END:VEVENT
BEGIN:VEVENT
DTSTART;TZID=America/New_York:20230927T183000
DTEND;TZID=America/New_York:20230927T200000
DTSTAMP:20260424T225501
CREATED:20230923T192414Z
LAST-MODIFIED:20230923T192414Z
UID:10529-1695839400-1695844800@norwichag.org
SUMMARY:Bible Study
DESCRIPTION:Join us as we conclude our study of Job\, chapter 5.
URL:https://norwichag.org/event/bible-study-73/
CATEGORIES:Church
ATTACH;FMTTYPE=image/jpeg:https://norwichag.org/wp-content/uploads/2023/04/bible-gca27f028e_640.jpg
END:VEVENT
BEGIN:VEVENT
DTSTART;TZID=America/New_York:20230924T180000
DTEND;TZID=America/New_York:20230924T193000
DTSTAMP:20260424T225501
CREATED:20230923T192120Z
LAST-MODIFIED:20230923T192120Z
UID:10527-1695578400-1695583800@norwichag.org
SUMMARY:Revival Cry Prayer Meeting
DESCRIPTION:Join us as we pray for the peace of Jerusalem and Israel in accordance with God’s word.
URL:https://norwichag.org/event/revival-cry-prayer-meeting-44/
CATEGORIES:Church
ATTACH;FMTTYPE=image/jpeg:https://norwichag.org/wp-content/uploads/2021/03/hands-2168901_640-1.jpg
END:VEVENT
BEGIN:VEVENT
DTSTART;TZID=America/New_York:20230924T093000
DTEND;TZID=America/New_York:20230924T230000
DTSTAMP:20260424T225501
CREATED:20230923T191812Z
LAST-MODIFIED:20230923T191812Z
UID:10525-1695547800-1695596400@norwichag.org
SUMMARY:Morning Worship Service
DESCRIPTION:Join us as we worship God together. Pastor Randy will be preaching the 2nd part of the sermon\, “Tansformational Faith – Judgment\, Part 2.” All welcome!
URL:https://norwichag.org/event/morning-worship-service-5/
CATEGORIES:Church
ATTACH;FMTTYPE=image/jpeg:https://norwichag.org/wp-content/uploads/2021/03/alabanza-4096468_640-1.jpg
END:VEVENT
BEGIN:VEVENT
DTSTART;TZID=America/New_York:20230923T130000
DTEND;TZID=America/New_York:20230923T150000
DTSTAMP:20260424T225501
CREATED:20230919T153022Z
LAST-MODIFIED:20230919T153022Z
UID:10521-1695474000-1695481200@norwichag.org
SUMMARY:Outreach Ministry
DESCRIPTION:Join us for our monthly outreach in downtown Norwich.\nWe will meet at the church at 1PM and then go to the park.\nPlease pray for the outreach and join us as we pass out\, pizza\, gift bags and also pray and share the Gospel will others!
URL:https://norwichag.org/event/outreach-ministry-2/
LOCATION:Howard T Brown Park\, 100 Chelsea Harbor Drive\, Norwich\, CT\, 06360\, United States
CATEGORIES:Church
ATTACH;FMTTYPE=image/jpeg:https://norwichag.org/wp-content/uploads/2015/06/IMG_20150529_103222210_HDR-2.jpg
END:VEVENT
BEGIN:VEVENT
DTSTART;TZID=America/New_York:20230920T183000
DTEND;TZID=America/New_York:20230920T200000
DTSTAMP:20260424T225501
CREATED:20230919T151602Z
LAST-MODIFIED:20230919T151602Z
UID:10519-1695234600-1695240000@norwichag.org
SUMMARY:Bible Study
DESCRIPTION:Please join us as we continue our study of Job 5.All are welcome!
URL:https://norwichag.org/event/bible-study-72/
LOCATION:Norwich Assembly of God\, 340 New London Tpke\, Norwich\, CT\, 06360\, United States
CATEGORIES:Church
ATTACH;FMTTYPE=image/jpeg:https://norwichag.org/wp-content/uploads/2023/04/bible-gca27f028e_640.jpg
END:VEVENT
BEGIN:VEVENT
DTSTART;TZID=America/New_York:20230915T183000
DTEND;TZID=America/New_York:20230915T200000
DTSTAMP:20260424T225501
CREATED:20230907T192402Z
LAST-MODIFIED:20230907T192402Z
UID:10511-1694802600-1694808000@norwichag.org
SUMMARY:Fall Prayer Service - Restoration
DESCRIPTION:Restoration of Broken Hearts\, Broken Homes and Broken Relationships.
URL:https://norwichag.org/event/fall-prayer-service-restoration/
LOCATION:Norwich Assembly of God\, 340 New London Tpke\, Norwich\, CT\, 06360\, United States
CATEGORIES:Church
ATTACH;FMTTYPE=image/jpeg:https://norwichag.org/wp-content/uploads/2020/04/E65D6BFA-3225-4ECD-83DE-D9012C49F45A.jpeg
END:VEVENT
BEGIN:VEVENT
DTSTART;TZID=America/New_York:20230914T183000
DTEND;TZID=America/New_York:20230914T200000
DTSTAMP:20260424T225501
CREATED:20230907T192133Z
LAST-MODIFIED:20230907T192133Z
UID:10509-1694716200-1694721600@norwichag.org
SUMMARY:Fall Prayer Service - Divine Healing
DESCRIPTION:Let us pray for a sovereign move of healing amongst us.
URL:https://norwichag.org/event/fall-prayer-service-divine-healing/
LOCATION:Norwich Assembly of God\, 340 New London Tpke\, Norwich\, CT\, 06360\, United States
CATEGORIES:Church
ATTACH;FMTTYPE=image/jpeg:https://norwichag.org/wp-content/uploads/2017/08/statue-1308970_640.jpg
END:VEVENT
BEGIN:VEVENT
DTSTART;TZID=America/New_York:20230914T103000
DTEND;TZID=America/New_York:20230914T120000
DTSTAMP:20260424T225501
CREATED:20230907T201045Z
LAST-MODIFIED:20230907T201045Z
UID:10513-1694687400-1694692800@norwichag.org
SUMMARY:Ladies Bible Study
DESCRIPTION:All ladies are invited to join us as we continue our study on the Book of Ruth.
URL:https://norwichag.org/event/ladies-bible-study-8/
LOCATION:Norwich Assembly of God\, 340 New London Tpke\, Norwich\, CT\, 06360\, United States
CATEGORIES:Church
ATTACH;FMTTYPE=image/jpeg:https://norwichag.org/wp-content/uploads/2021/01/cup-4197223_640.jpg
END:VEVENT
BEGIN:VEVENT
DTSTART;TZID=America/New_York:20230913T183000
DTEND;TZID=America/New_York:20230913T200000
DTSTAMP:20260424T225501
CREATED:20230907T191658Z
LAST-MODIFIED:20230907T191658Z
UID:10507-1694629800-1694635200@norwichag.org
SUMMARY:Fall Prayer Service - The Anointing of the Holy Spirit on Our Services\, Events and Outreaches
DESCRIPTION:Tonight’s Theme: The Anointing of the Holy Spirit on Our Services\, Events and Outreaches
URL:https://norwichag.org/event/fall-prayer-service-the-anointing-of-the-holy-spirit-on-our-services-events-and-outreaches/
LOCATION:Norwich Assembly of God\, 340 New London Tpke\, Norwich\, CT\, 06360\, United States
CATEGORIES:Church
ATTACH;FMTTYPE=image/jpeg:https://norwichag.org/wp-content/uploads/2020/05/guy-2607446_640.jpg
END:VEVENT
BEGIN:VEVENT
DTSTART;TZID=America/New_York:20230912T183000
DTEND;TZID=America/New_York:20230912T200000
DTSTAMP:20260424T225501
CREATED:20230907T180919Z
LAST-MODIFIED:20230907T180919Z
UID:10503-1694543400-1694548800@norwichag.org
SUMMARY:Fall Prayer Service: A United Cry for Revival
DESCRIPTION:Join us as we\, united in heart and voice\, cry out to God for revival!
URL:https://norwichag.org/event/fall-prayer-service-a-united-cry-for-revival/
LOCATION:Norwich Assembly of God\, 340 New London Tpke\, Norwich\, CT\, 06360\, United States
ATTACH;FMTTYPE=image/jpeg:https://norwichag.org/wp-content/uploads/2018/04/people-2587954_640.jpg
END:VEVENT
BEGIN:VEVENT
DTSTART;TZID=America/New_York:20230911T183000
DTEND;TZID=America/New_York:20230911T200000
DTSTAMP:20260424T225501
CREATED:20230907T180218Z
LAST-MODIFIED:20230907T180218Z
UID:10501-1694457000-1694462400@norwichag.org
SUMMARY:Fall Prayer Service - Confession and Repentance
DESCRIPTION:Join us today as we prayerfully confess the sins of our nation\, church and lives.
URL:https://norwichag.org/event/fall-prayer-service-confession-and-repentance/
LOCATION:Norwich Assembly of God\, 340 New London Tpke\, Norwich\, CT\, 06360\, United States
CATEGORIES:Church
ATTACH;FMTTYPE=image/jpeg:https://norwichag.org/wp-content/uploads/2021/01/people-2599550_640.jpg
END:VEVENT
BEGIN:VEVENT
DTSTART;TZID=America/New_York:20230910T180000
DTEND;TZID=America/New_York:20230910T193000
DTSTAMP:20260424T225501
CREATED:20230907T175859Z
LAST-MODIFIED:20230907T175859Z
UID:10499-1694368800-1694374200@norwichag.org
SUMMARY:Fall Prayer Service
DESCRIPTION:Join us tonight as we Worship\, Praise &  give Thanksgiving to The Lord For All that He Has Done!
URL:https://norwichag.org/event/fall-prayer-service/
LOCATION:Norwich Assembly of God\, 340 New London Tpke\, Norwich\, CT\, 06360\, United States
ATTACH;FMTTYPE=image/jpeg:https://norwichag.org/wp-content/uploads/2021/03/hands-2168901_640-1.jpg
END:VEVENT
BEGIN:VEVENT
DTSTART;TZID=America/New_York:20230910T093000
DTEND;TZID=America/New_York:20230910T110000
DTSTAMP:20260424T225501
CREATED:20230906T150011Z
LAST-MODIFIED:20230906T150011Z
UID:10492-1694338200-1694343600@norwichag.org
SUMMARY:Special Speaker James Wabwire
DESCRIPTION:Join us for the preaching ministry of Pastor James Wabwire from Zion international Ministries in Uganda. Pastor Wabwire will also sharing an update on the ministry in Uganda. All are welcome!
URL:https://norwichag.org/event/special-speaker-james-wabwire/
CATEGORIES:Church
ATTACH;FMTTYPE=image/jpeg:https://norwichag.org/wp-content/uploads/2023/09/James-Wabwire.jpeg
END:VEVENT
BEGIN:VEVENT
DTSTART;TZID=America/New_York:20230909T090000
DTEND;TZID=America/New_York:20230909T110000
DTSTAMP:20260424T225501
CREATED:20230906T152006Z
LAST-MODIFIED:20230906T152006Z
UID:10494-1694250000-1694257200@norwichag.org
SUMMARY:Men's Breakfast
DESCRIPTION:All men are invited to join us for a time of prayer\, food and fellowship. Please bring a breakfast item to share and invite a friend!
URL:https://norwichag.org/event/mens-breakfast-36/
LOCATION:Norwich Assembly of God\, 340 New London Tpke\, Norwich\, CT\, 06360\, United States
CATEGORIES:Church
ATTACH;FMTTYPE=image/jpeg:https://norwichag.org/wp-content/uploads/2021/01/healthy-2515483_640.jpg
END:VEVENT
BEGIN:VEVENT
DTSTART;TZID=America/New_York:20230906T183000
DTEND;TZID=America/New_York:20230906T200000
DTSTAMP:20260424T225501
CREATED:20230906T145730Z
LAST-MODIFIED:20230906T145730Z
UID:10489-1694025000-1694030400@norwichag.org
SUMMARY:Bible Study
DESCRIPTION:Join us as we begin Job\, chapter 5. All are welcome!
URL:https://norwichag.org/event/bible-study-71/
CATEGORIES:Church
ATTACH;FMTTYPE=image/jpeg:https://norwichag.org/wp-content/uploads/2023/04/bible-gca27f028e_640.jpg
END:VEVENT
BEGIN:VEVENT
DTSTART;TZID=America/New_York:20230903T180000
DTEND;TZID=America/New_York:20230903T193000
DTSTAMP:20260424T225501
CREATED:20230829T220009Z
LAST-MODIFIED:20230829T220020Z
UID:10481-1693764000-1693769400@norwichag.org
SUMMARY:Revival Cry Prayer Meeting
DESCRIPTION:Join us as we pray for the needs of our church and for a fresh move of God in our communities.
URL:https://norwichag.org/event/revival-cry-prayer-meeting-43/
LOCATION:Norwich Assembly of God\, 340 New London Tpke\, Norwich\, CT\, 06360\, United States
CATEGORIES:Church
ATTACH;FMTTYPE=image/jpeg:https://norwichag.org/wp-content/uploads/2020/05/guy-2607446_640.jpg
END:VEVENT
BEGIN:VEVENT
DTSTART;TZID=America/New_York:20230903T093000
DTEND;TZID=America/New_York:20230903T110000
DTSTAMP:20260424T225501
CREATED:20230825T173016Z
LAST-MODIFIED:20230825T173016Z
UID:10472-1693733400-1693738800@norwichag.org
SUMMARY:Communion Sunday
DESCRIPTION:Join us as we celebrate the death\, burial and Resurrection of the Lord Jesus Christ through the partaking of holy Communion.
URL:https://norwichag.org/event/communion-sunday-41/
CATEGORIES:Church
ATTACH;FMTTYPE=image/jpeg:https://norwichag.org/wp-content/uploads/2020/02/cross-1149878_640-1.jpg
END:VEVENT
BEGIN:VEVENT
DTSTART;TZID=America/New_York:20230831T103000
DTEND;TZID=America/New_York:20230831T120000
DTSTAMP:20260424T225501
CREATED:20230829T220324Z
LAST-MODIFIED:20230829T220324Z
UID:10484-1693477800-1693483200@norwichag.org
SUMMARY:Ladies Bible Study
DESCRIPTION:Join us as we continue our study of the Book of Ruth.
URL:https://norwichag.org/event/ladies-bible-study-7/
CATEGORIES:Church
ATTACH;FMTTYPE=image/jpeg:https://norwichag.org/wp-content/uploads/2021/01/cup-4197223_640.jpg
END:VEVENT
BEGIN:VEVENT
DTSTART;TZID=America/New_York:20230830T183000
DTEND;TZID=America/New_York:20230830T200000
DTSTAMP:20260424T225501
CREATED:20230817T161129Z
LAST-MODIFIED:20230817T161129Z
UID:10463-1693420200-1693425600@norwichag.org
SUMMARY:Bible Study
DESCRIPTION:All are welcome to our Bible Study of the book of Job.
URL:https://norwichag.org/event/bible-study-70/
LOCATION:Norwich Assembly of God\, 340 New London Tpke\, Norwich\, CT\, 06360\, United States
CATEGORIES:Church
ATTACH;FMTTYPE=image/jpeg:https://norwichag.org/wp-content/uploads/2023/04/bible-gca27f028e_640.jpg
END:VEVENT
BEGIN:VEVENT
DTSTART;TZID=America/New_York:20230827T180000
DTEND;TZID=America/New_York:20230827T193000
DTSTAMP:20260424T225501
CREATED:20230817T161409Z
LAST-MODIFIED:20230817T161409Z
UID:10465-1693159200-1693164600@norwichag.org
SUMMARY:Revival Cry Prayer Meeting
DESCRIPTION:Please join us as we pray for the needs of our church family and seek God for a revival in our region!
URL:https://norwichag.org/event/revival-cry-prayer-meeting-42/
CATEGORIES:Church
ATTACH;FMTTYPE=image/jpeg:https://norwichag.org/wp-content/uploads/2020/06/guy-2617866_640.jpg
END:VEVENT
BEGIN:VEVENT
DTSTART;TZID=America/New_York:20230827T093000
DTEND;TZID=America/New_York:20230827T110000
DTSTAMP:20260424T225501
CREATED:20230817T160827Z
LAST-MODIFIED:20230817T160827Z
UID:10461-1693128600-1693134000@norwichag.org
SUMMARY:Worship Service
DESCRIPTION:Join us for worship\, prayer and the Word!
URL:https://norwichag.org/event/worship-service-4/
LOCATION:Norwich Assembly of God\, 340 New London Tpke\, Norwich\, CT\, 06360\, United States
CATEGORIES:Church
ATTACH;FMTTYPE=image/jpeg:https://norwichag.org/wp-content/uploads/2020/07/sky-2667455_640.jpg
END:VEVENT
BEGIN:VEVENT
DTSTART;TZID=America/New_York:20230826T130000
DTEND;TZID=America/New_York:20230826T150000
DTSTAMP:20260424T225501
CREATED:20230817T160645Z
LAST-MODIFIED:20230817T160645Z
UID:10459-1693054800-1693062000@norwichag.org
SUMMARY:City Outreach
DESCRIPTION:Join us as the Outreach Team goes downtown to distribute pizza\, coffee\, prayer and the Gospel to our fellow residents in Norwich.\nWe will meet at the church at 1 PM for prayer and then depart to Howard Brown Park at 1:30 PM.\nAll welcome!
URL:https://norwichag.org/event/city-outreach-3/
CATEGORIES:Church
ATTACH;FMTTYPE=image/jpeg:https://norwichag.org/wp-content/uploads/2021/06/11350542_893608644016338_1147212701219007756_n.jpg
END:VEVENT
BEGIN:VEVENT
DTSTART;TZID=America/New_York:20230823T183000
DTEND;TZID=America/New_York:20230823T200000
DTSTAMP:20260424T225501
CREATED:20230817T155454Z
LAST-MODIFIED:20230817T155454Z
UID:10457-1692815400-1692820800@norwichag.org
SUMMARY:Bible Study
DESCRIPTION:Join us as we continue our study of the book of Job. We are in chapter 4 this week.
URL:https://norwichag.org/event/bible-study-69/
LOCATION:Norwich Assembly of God\, 340 New London Tpke\, Norwich\, CT\, 06360\, United States
CATEGORIES:Church
ATTACH;FMTTYPE=image/jpeg:https://norwichag.org/wp-content/uploads/2023/04/bible-gca27f028e_640.jpg
END:VEVENT
END:VCALENDAR