BEGIN:VCALENDAR
VERSION:2.0
PRODID:-//Norwich Assembly of God - ECPv6.15.20//NONSGML v1.0//EN
CALSCALE:GREGORIAN
METHOD:PUBLISH
X-WR-CALNAME:Norwich Assembly of God
X-ORIGINAL-URL:https://norwichag.org
X-WR-CALDESC:Events for Norwich Assembly of God
REFRESH-INTERVAL;VALUE=DURATION:PT1H
X-Robots-Tag:noindex
X-PUBLISHED-TTL:PT1H
BEGIN:VTIMEZONE
TZID:America/New_York
BEGIN:DAYLIGHT
TZOFFSETFROM:-0500
TZOFFSETTO:-0400
TZNAME:EDT
DTSTART:20230312T070000
END:DAYLIGHT
BEGIN:STANDARD
TZOFFSETFROM:-0400
TZOFFSETTO:-0500
TZNAME:EST
DTSTART:20231105T060000
END:STANDARD
BEGIN:DAYLIGHT
TZOFFSETFROM:-0500
TZOFFSETTO:-0400
TZNAME:EDT
DTSTART:20240310T070000
END:DAYLIGHT
BEGIN:STANDARD
TZOFFSETFROM:-0400
TZOFFSETTO:-0500
TZNAME:EST
DTSTART:20241103T060000
END:STANDARD
BEGIN:DAYLIGHT
TZOFFSETFROM:-0500
TZOFFSETTO:-0400
TZNAME:EDT
DTSTART:20250309T070000
END:DAYLIGHT
BEGIN:STANDARD
TZOFFSETFROM:-0400
TZOFFSETTO:-0500
TZNAME:EST
DTSTART:20251102T060000
END:STANDARD
END:VTIMEZONE
BEGIN:VEVENT
DTSTART;TZID=America/New_York:20240721T093000
DTEND;TZID=America/New_York:20240721T113000
DTSTAMP:20260423T113156
CREATED:20240712T185149Z
LAST-MODIFIED:20240712T185149Z
UID:10941-1721554200-1721561400@norwichag.org
SUMMARY:AM Worship Service
DESCRIPTION:Join us as we worship the Lord together!
URL:https://norwichag.org/event/am-worship-service-3/
CATEGORIES:Church
ATTACH;FMTTYPE=image/jpeg:https://norwichag.org/wp-content/uploads/2020/07/6D0197CA-97DE-4FAE-B628-D9113514145C.jpeg
END:VEVENT
BEGIN:VEVENT
DTSTART;TZID=America/New_York:20240714T180000
DTEND;TZID=America/New_York:20240714T200000
DTSTAMP:20260423T113156
CREATED:20240712T184314Z
LAST-MODIFIED:20240712T184314Z
UID:10937-1720980000-1720987200@norwichag.org
SUMMARY:Revival Cry Prayer Meeting
DESCRIPTION:All are welcome to join us as we seek God for Revival!
URL:https://norwichag.org/event/revival-cry-prayer-meeting-58/
CATEGORIES:Church
ATTACH;FMTTYPE=image/jpeg:https://norwichag.org/wp-content/uploads/2020/06/guy-2617866_640-1.jpg
END:VEVENT
BEGIN:VEVENT
DTSTART;TZID=America/New_York:20240714T093000
DTEND;TZID=America/New_York:20240714T113000
DTSTAMP:20260423T113156
CREATED:20240712T184105Z
LAST-MODIFIED:20240712T184105Z
UID:10935-1720949400-1720956600@norwichag.org
SUMMARY:Worship Service
DESCRIPTION:Join us as we worship the Lord together!
URL:https://norwichag.org/event/worship-service-6/
CATEGORIES:Church
ATTACH;FMTTYPE=image/jpeg:https://norwichag.org/wp-content/uploads/2020/03/bible-53753_640.jpg
END:VEVENT
BEGIN:VEVENT
DTSTART;TZID=America/New_York:20240713T090000
DTEND;TZID=America/New_York:20240713T110000
DTSTAMP:20260423T113156
CREATED:20240712T183256Z
LAST-MODIFIED:20240712T183256Z
UID:10933-1720861200-1720868400@norwichag.org
SUMMARY:Men's Breakfast
DESCRIPTION:All men are invited to join us for breakfast\, prayer and fellowship.\nPlease bring a breakfast item to share.
URL:https://norwichag.org/event/mens-breakfast-43/
CATEGORIES:Church
ATTACH;FMTTYPE=image/jpeg:https://norwichag.org/wp-content/uploads/2021/01/healthy-2515483_640.jpg
END:VEVENT
BEGIN:VEVENT
DTSTART;TZID=America/New_York:20240425T103000
DTEND;TZID=America/New_York:20240425T120000
DTSTAMP:20260423T113156
CREATED:20240416T223555Z
LAST-MODIFIED:20240416T223555Z
UID:10885-1714041000-1714046400@norwichag.org
SUMMARY:Ladies Bible Study
DESCRIPTION:All ladies are welcome to join our Bible study on the Book of Jonah. Please see Noreen for details.
URL:https://norwichag.org/event/ladies-bible-study-17/
CATEGORIES:Church
ATTACH;FMTTYPE=image/jpeg:https://norwichag.org/wp-content/uploads/2024/04/whale-6554930_1280.jpg
END:VEVENT
BEGIN:VEVENT
DTSTART;TZID=America/New_York:20240424T183000
DTEND;TZID=America/New_York:20240424T200000
DTSTAMP:20260423T113156
CREATED:20240416T222953Z
LAST-MODIFIED:20240416T222953Z
UID:10882-1713983400-1713988800@norwichag.org
SUMMARY:Bible Study
DESCRIPTION:Please join us as we continue our study of Job 12.
URL:https://norwichag.org/event/bible-study-95/
CATEGORIES:Church
ATTACH;FMTTYPE=image/jpeg:https://norwichag.org/wp-content/uploads/2023/04/bible-gca27f028e_640.jpg
END:VEVENT
BEGIN:VEVENT
DTSTART;TZID=America/New_York:20240421T180000
DTEND;TZID=America/New_York:20240421T193000
DTSTAMP:20260423T113156
CREATED:20240416T222558Z
LAST-MODIFIED:20240416T222558Z
UID:10880-1713722400-1713727800@norwichag.org
SUMMARY:Revival Cry Prayer Meeting
DESCRIPTION:Join us as we seek God for Revival!
URL:https://norwichag.org/event/revival-cry-prayer-meeting-57/
CATEGORIES:Church
ATTACH;FMTTYPE=image/jpeg:https://norwichag.org/wp-content/uploads/2020/08/beach-1868772_640.jpg
END:VEVENT
BEGIN:VEVENT
DTSTART;TZID=America/New_York:20240421T093000
DTEND;TZID=America/New_York:20240421T110000
DTSTAMP:20260423T113156
CREATED:20240416T222316Z
LAST-MODIFIED:20240416T222316Z
UID:10877-1713691800-1713697200@norwichag.org
SUMMARY:Teen Challenge Sunday
DESCRIPTION:Members of Teen Challenge Connecticut will be joining us for morning worship. and sharing their testimonies.\nMake plans to join us and invite a friend.
URL:https://norwichag.org/event/teen-challenge-sunday/
ATTACH;FMTTYPE=image/jpeg:https://norwichag.org/wp-content/uploads/2019/02/prayer-401401_640.jpg
END:VEVENT
BEGIN:VEVENT
DTSTART;TZID=America/New_York:20240420T090000
DTEND;TZID=America/New_York:20240420T130000
DTSTAMP:20260423T113156
CREATED:20240416T221600Z
LAST-MODIFIED:20240416T221600Z
UID:10875-1713603600-1713618000@norwichag.org
SUMMARY:Work Day
DESCRIPTION:All hands on deck as we work on the church building. Check the link for the work day list.
URL:https://norwichag.org/event/work-day-10/
CATEGORIES:Church
ATTACH;FMTTYPE=image/jpeg:https://norwichag.org/wp-content/uploads/2020/06/plumbing-840835_640.jpg
END:VEVENT
BEGIN:VEVENT
DTSTART;TZID=America/New_York:20240417T183000
DTEND;TZID=America/New_York:20240417T200000
DTSTAMP:20260423T113156
CREATED:20240416T221149Z
LAST-MODIFIED:20240416T221149Z
UID:10873-1713378600-1713384000@norwichag.org
SUMMARY:Bible Study
DESCRIPTION:Join us as we continue to study Job. We are in Job 12.
URL:https://norwichag.org/event/bible-study-94/
CATEGORIES:Church
ATTACH;FMTTYPE=image/jpeg:https://norwichag.org/wp-content/uploads/2023/04/bible-gca27f028e_640.jpg
END:VEVENT
BEGIN:VEVENT
DTSTART;TZID=America/New_York:20240411T103000
DTEND;TZID=America/New_York:20240411T120000
DTSTAMP:20260423T113156
CREATED:20240404T170806Z
LAST-MODIFIED:20240404T171251Z
UID:10868-1712831400-1712836800@norwichag.org
SUMMARY:Ladies Bible Study
DESCRIPTION:Join us for our first Ladies’ Bible study of the year. We will be studying the book “Mercy In The Storm” dealing with the Book of Jonah.\nAll ladies are welcome. Please see Noreen for a copy of the book.
URL:https://norwichag.org/event/ladies-bible-study-16/
LOCATION:Norwich Assembly of God\, 340 New London Tpke\, Norwich\, CT\, 06360\, United States
CATEGORIES:Church
ATTACH;FMTTYPE=image/jpeg:https://norwichag.org/wp-content/uploads/2021/01/cup-4197223_640.jpg
END:VEVENT
BEGIN:VEVENT
DTSTART;TZID=America/New_York:20240410T183000
DTEND;TZID=America/New_York:20240410T200000
DTSTAMP:20260423T113156
CREATED:20240404T170439Z
LAST-MODIFIED:20240404T170439Z
UID:10866-1712773800-1712779200@norwichag.org
SUMMARY:Bible Study
DESCRIPTION:Join us as we continue our study of Job 12:1-6.
URL:https://norwichag.org/event/bible-study-93/
LOCATION:Norwich Assembly of God\, 340 New London Tpke\, Norwich\, CT\, 06360\, United States
CATEGORIES:Church
ATTACH;FMTTYPE=image/jpeg:https://norwichag.org/wp-content/uploads/2020/03/bible-53753_640.jpg
END:VEVENT
BEGIN:VEVENT
DTSTART;TZID=America/New_York:20240407T180000
DTEND;TZID=America/New_York:20240407T193000
DTSTAMP:20260423T113156
CREATED:20240404T161542Z
LAST-MODIFIED:20240404T161542Z
UID:10850-1712512800-1712518200@norwichag.org
SUMMARY:Revival Cry Prayer Meeting
DESCRIPTION:Join us as we seek God fro revival in our region!
URL:https://norwichag.org/event/revival-cry-prayer-meeting-56/
ATTACH;FMTTYPE=image/jpeg:https://norwichag.org/wp-content/uploads/2020/01/hands-2168901_640.jpg
END:VEVENT
BEGIN:VEVENT
DTSTART;TZID=America/New_York:20240407T093000
DTEND;TZID=America/New_York:20240407T110000
DTSTAMP:20260423T113156
CREATED:20240404T153016Z
LAST-MODIFIED:20240404T153016Z
UID:10848-1712482200-1712487600@norwichag.org
SUMMARY:Communion Sunday
DESCRIPTION:Join us as we worship Jesus together!
URL:https://norwichag.org/event/communion-sunday-47/
LOCATION:Norwich Assembly of God\, 340 New London Tpke\, Norwich\, CT\, 06360\, United States
CATEGORIES:Church
ATTACH;FMTTYPE=image/jpeg:https://norwichag.org/wp-content/uploads/2020/07/holy-communion-3498484_640-2.jpg
END:VEVENT
BEGIN:VEVENT
DTSTART;TZID=America/New_York:20240403T183000
DTEND;TZID=America/New_York:20240403T200000
DTSTAMP:20260423T113156
CREATED:20240301T183914Z
LAST-MODIFIED:20240301T183914Z
UID:10828-1712169000-1712174400@norwichag.org
SUMMARY:Bible Study
DESCRIPTION:Please join us as we continue our study of the Book of Job. All are welcome.
URL:https://norwichag.org/event/bible-study-92/
CATEGORIES:Church
ATTACH;FMTTYPE=image/jpeg:https://norwichag.org/wp-content/uploads/2023/04/bible-gca27f028e_640.jpg
END:VEVENT
BEGIN:VEVENT
DTSTART;TZID=America/New_York:20240331T093000
DTEND;TZID=America/New_York:20240331T110000
DTSTAMP:20260423T113156
CREATED:20240301T183443Z
LAST-MODIFIED:20240301T183443Z
UID:10824-1711877400-1711882800@norwichag.org
SUMMARY:Easter Sunday
DESCRIPTION:Please join us as we celebrate the resurrection of the Lord Jesus Christ!
URL:https://norwichag.org/event/easter-sunday-2/
CATEGORIES:Church
ATTACH;FMTTYPE=image/jpeg:https://norwichag.org/wp-content/uploads/2014/04/file000610733006.jpg
END:VEVENT
BEGIN:VEVENT
DTSTART;TZID=America/New_York:20240329T190000
DTEND;TZID=America/New_York:20240329T203000
DTSTAMP:20260423T113156
CREATED:20240301T182017Z
LAST-MODIFIED:20240301T182017Z
UID:10819-1711738800-1711744200@norwichag.org
SUMMARY:Good Friday Communion Service
DESCRIPTION:Please make time to join us for our Good Friday Communion service.\nWe will reflect upon the suffering and death of the Lord Jesus Christ through scripture\, song and the observance of Holy Communion.\nAll are welcome.
URL:https://norwichag.org/event/good-friday-communion-service-3/
CATEGORIES:Church
ATTACH;FMTTYPE=image/jpeg:https://norwichag.org/wp-content/uploads/2020/12/jesus-3476251_640.jpg
END:VEVENT
BEGIN:VEVENT
DTSTART;TZID=America/New_York:20240327T183000
DTEND;TZID=America/New_York:20240327T200000
DTSTAMP:20260423T113156
CREATED:20240301T181705Z
LAST-MODIFIED:20240301T181705Z
UID:10817-1711564200-1711569600@norwichag.org
SUMMARY:Bible Study
DESCRIPTION:Please join us as we continue our study of the Book of Job. All are welcome.
URL:https://norwichag.org/event/bible-study-91/
CATEGORIES:Church
ATTACH;FMTTYPE=image/jpeg:https://norwichag.org/wp-content/uploads/2023/04/bible-gca27f028e_640.jpg
END:VEVENT
BEGIN:VEVENT
DTSTART;TZID=America/New_York:20240324T180000
DTEND;TZID=America/New_York:20240324T200000
DTSTAMP:20260423T113156
CREATED:20240301T183103Z
LAST-MODIFIED:20240301T183103Z
UID:10822-1711303200-1711310400@norwichag.org
SUMMARY:Revival Cry Prayer Meeting
DESCRIPTION:Please join us as we gather together to pray for the moving of the Holy Spirit upon lives during the upcoming special services.
URL:https://norwichag.org/event/revival-cry-prayer-meeting-55/
ATTACH;FMTTYPE=image/jpeg:https://norwichag.org/wp-content/uploads/2017/04/file000607984963.jpg
END:VEVENT
BEGIN:VEVENT
DTSTART;TZID=America/New_York:20240324T093000
DTEND;TZID=America/New_York:20240324T110000
DTSTAMP:20260423T113156
CREATED:20240301T180921Z
LAST-MODIFIED:20240301T180921Z
UID:10813-1711272600-1711278000@norwichag.org
SUMMARY:Palm Sunday
DESCRIPTION:All are welcome as we celebrate the Triumphal Entry of the Lord Jesus Christ into Jerusalem the week of His crucifixion.
URL:https://norwichag.org/event/palm-sunday-4/
CATEGORIES:Church
ATTACH;FMTTYPE=image/jpeg:https://norwichag.org/wp-content/uploads/2019/03/christian-1316203_640.jpg
END:VEVENT
BEGIN:VEVENT
DTSTART;TZID=America/New_York:20240323T130000
DTEND;TZID=America/New_York:20240323T150000
DTSTAMP:20260423T113156
CREATED:20240301T180507Z
LAST-MODIFIED:20240301T180507Z
UID:10811-1711198800-1711206000@norwichag.org
SUMMARY:Outreach Team
DESCRIPTION:Join us as we go downtown to pass out food\, pray and share Jesus. Please meet at the church at 1 PM.
URL:https://norwichag.org/event/outreach-team-6/
LOCATION:Howard T Brown Park\, 100 Chelsea Harbor Drive\, Norwich\, CT\, 06360\, United States
CATEGORIES:Church
ATTACH;FMTTYPE=image/jpeg:https://norwichag.org/wp-content/uploads/2015/06/IMG_20150529_103222210_HDR-2.jpg
END:VEVENT
BEGIN:VEVENT
DTSTART;TZID=America/New_York:20240320T183000
DTEND;TZID=America/New_York:20240320T200000
DTSTAMP:20260423T113156
CREATED:20240301T175349Z
LAST-MODIFIED:20240301T175349Z
UID:10809-1710959400-1710964800@norwichag.org
SUMMARY:Bible Study
DESCRIPTION:join us for our continuing study of the Book of Job. All are welcome.
URL:https://norwichag.org/event/bible-study-90/
LOCATION:Norwich Assembly of God\, 340 New London Tpke\, Norwich\, CT\, 06360\, United States
CATEGORIES:Church
ATTACH;FMTTYPE=image/jpeg:https://norwichag.org/wp-content/uploads/2023/04/bible-gca27f028e_640.jpg
END:VEVENT
BEGIN:VEVENT
DTSTART;TZID=America/New_York:20240317T180000
DTEND;TZID=America/New_York:20240317T193000
DTSTAMP:20260423T113156
CREATED:20240301T174939Z
LAST-MODIFIED:20240301T174939Z
UID:10805-1710698400-1710703800@norwichag.org
SUMMARY:Revival Cry Prayer Meeting
DESCRIPTION:Join us as we seek God for His moving upon our region as we approach the Easter holidays.
URL:https://norwichag.org/event/revival-cry-prayer-meeting-54/
CATEGORIES:Church
ATTACH;FMTTYPE=image/jpeg:https://norwichag.org/wp-content/uploads/2016/10/hands.jpg
END:VEVENT
BEGIN:VEVENT
DTSTART;TZID=America/New_York:20240317T093000
DTEND;TZID=America/New_York:20240317T110000
DTSTAMP:20260423T113156
CREATED:20240301T174509Z
LAST-MODIFIED:20240301T174509Z
UID:10803-1710667800-1710673200@norwichag.org
SUMMARY:AM Worship
DESCRIPTION:Join us as we worship God and study His word!
URL:https://norwichag.org/event/am-worship/
ATTACH;FMTTYPE=image/jpeg:https://norwichag.org/wp-content/uploads/2015/05/cross-on-bible-green.jpg
END:VEVENT
BEGIN:VEVENT
DTSTART;TZID=America/New_York:20240313T183000
DTEND;TZID=America/New_York:20240313T200000
DTSTAMP:20260423T113156
CREATED:20240301T173756Z
LAST-MODIFIED:20240301T173756Z
UID:10801-1710354600-1710360000@norwichag.org
SUMMARY:Bible Study
DESCRIPTION:Join us as we continue our study of the book of Job. All are welcome.
URL:https://norwichag.org/event/bible-study-89/
LOCATION:Norwich Assembly of God\, 340 New London Tpke\, Norwich\, CT\, 06360\, United States
CATEGORIES:Church
ATTACH;FMTTYPE=image/jpeg:https://norwichag.org/wp-content/uploads/2023/04/bible-gca27f028e_640.jpg
END:VEVENT
BEGIN:VEVENT
DTSTART;TZID=America/New_York:20240310T180000
DTEND;TZID=America/New_York:20240310T203000
DTSTAMP:20260423T113156
CREATED:20240301T173052Z
LAST-MODIFIED:20240301T173052Z
UID:10796-1710093600-1710102600@norwichag.org
SUMMARY:Revival Cry Prayer Meeting
DESCRIPTION:Join us as we continue to pray for revival!
URL:https://norwichag.org/event/revival-cry-prayer-meeting-53/
CATEGORIES:Church
ATTACH;FMTTYPE=image/png:https://norwichag.org/wp-content/uploads/2020/01/prayer-1269776_640-1.png
END:VEVENT
BEGIN:VEVENT
DTSTART;TZID=America/New_York:20240310T093000
DTEND;TZID=America/New_York:20240310T110000
DTSTAMP:20260423T113156
CREATED:20240301T172919Z
LAST-MODIFIED:20240301T172919Z
UID:10794-1710063000-1710068400@norwichag.org
SUMMARY:Missions Sunday
DESCRIPTION:Please join us as we lift up the name of Jesus together. Please also remember our missionaries in prayer and giving.
URL:https://norwichag.org/event/missions-sunday-47/
CATEGORIES:Church
ATTACH;FMTTYPE=image/jpeg:https://norwichag.org/wp-content/uploads/2019/06/clock-2317210_640.jpg
END:VEVENT
BEGIN:VEVENT
DTSTART;TZID=America/New_York:20240309T090000
DTEND;TZID=America/New_York:20240309T110000
DTSTAMP:20260423T113156
CREATED:20240301T172231Z
LAST-MODIFIED:20240301T172231Z
UID:10792-1709974800-1709982000@norwichag.org
SUMMARY:Men's Breakfast
DESCRIPTION:All men are invited to join us for a time of food\, fellowship and spiritual encouragement.\nPlease bring a breakfast item to share.
URL:https://norwichag.org/event/mens-breakfast-42/
CATEGORIES:Church
ATTACH;FMTTYPE=image/jpeg:https://norwichag.org/wp-content/uploads/2020/03/egg-806081_640.jpg
END:VEVENT
BEGIN:VEVENT
DTSTART;TZID=America/New_York:20240306T183000
DTEND;TZID=America/New_York:20240306T200000
DTSTAMP:20260423T113156
CREATED:20240228T165602Z
LAST-MODIFIED:20240228T165602Z
UID:10780-1709749800-1709755200@norwichag.org
SUMMARY:Bible Study
DESCRIPTION:Join us as we study the Book of Job. we are currently in Job chapters 12 through 14.
URL:https://norwichag.org/event/bible-study-88/
CATEGORIES:Church
ATTACH;FMTTYPE=image/jpeg:https://norwichag.org/wp-content/uploads/2020/05/bible-276067_640.jpg
END:VEVENT
BEGIN:VEVENT
DTSTART;TZID=America/New_York:20240303T180000
DTEND;TZID=America/New_York:20240303T193000
DTSTAMP:20260423T113156
CREATED:20240228T171359Z
LAST-MODIFIED:20240228T171359Z
UID:10787-1709488800-1709494200@norwichag.org
SUMMARY:Revival Cry Prayer Meeting
DESCRIPTION:Let us join together to pray for revival in our lives\, families and region.
URL:https://norwichag.org/event/revival-cry-prayer-meeting-52/
CATEGORIES:Church
ATTACH;FMTTYPE=image/jpeg:https://norwichag.org/wp-content/uploads/2020/06/guy-2617866_640.jpg
END:VEVENT
END:VCALENDAR