BEGIN:VCALENDAR
VERSION:2.0
PRODID:-//Norwich Assembly of God - ECPv6.15.20//NONSGML v1.0//EN
CALSCALE:GREGORIAN
METHOD:PUBLISH
X-WR-CALNAME:Norwich Assembly of God
X-ORIGINAL-URL:https://norwichag.org
X-WR-CALDESC:Events for Norwich Assembly of God
REFRESH-INTERVAL;VALUE=DURATION:PT1H
X-Robots-Tag:noindex
X-PUBLISHED-TTL:PT1H
BEGIN:VTIMEZONE
TZID:America/New_York
BEGIN:DAYLIGHT
TZOFFSETFROM:-0500
TZOFFSETTO:-0400
TZNAME:EDT
DTSTART:20220313T070000
END:DAYLIGHT
BEGIN:STANDARD
TZOFFSETFROM:-0400
TZOFFSETTO:-0500
TZNAME:EST
DTSTART:20221106T060000
END:STANDARD
BEGIN:DAYLIGHT
TZOFFSETFROM:-0500
TZOFFSETTO:-0400
TZNAME:EDT
DTSTART:20230312T070000
END:DAYLIGHT
BEGIN:STANDARD
TZOFFSETFROM:-0400
TZOFFSETTO:-0500
TZNAME:EST
DTSTART:20231105T060000
END:STANDARD
BEGIN:DAYLIGHT
TZOFFSETFROM:-0500
TZOFFSETTO:-0400
TZNAME:EDT
DTSTART:20240310T070000
END:DAYLIGHT
BEGIN:STANDARD
TZOFFSETFROM:-0400
TZOFFSETTO:-0500
TZNAME:EST
DTSTART:20241103T060000
END:STANDARD
END:VTIMEZONE
BEGIN:VEVENT
DTSTART;TZID=America/New_York:20231117T180000
DTEND;TZID=America/New_York:20231117T200000
DTSTAMP:20260424T185119
CREATED:20231031T205058Z
LAST-MODIFIED:20231031T205058Z
UID:10640-1700244000-1700251200@norwichag.org
SUMMARY:Revival Services With Bro. Joe Tamborra
DESCRIPTION:Join us for for special services with Evangelist Joe Tamborra and friends.
URL:https://norwichag.org/event/revival-services-with-bro-joe-tamborra/
CATEGORIES:Church
ATTACH;FMTTYPE=image/jpeg:https://norwichag.org/wp-content/uploads/2023/05/23032816_10154919693567791_1683485307236531206_n.jpg
END:VEVENT
BEGIN:VEVENT
DTSTART;TZID=America/New_York:20231115T183000
DTEND;TZID=America/New_York:20231115T200000
DTSTAMP:20260424T185119
CREATED:20231024T205312Z
LAST-MODIFIED:20231024T205312Z
UID:10609-1700073000-1700078400@norwichag.org
SUMMARY:Bible Study
DESCRIPTION:Please join us as we continue our study of the Book of Job.\nAll are welcome!
URL:https://norwichag.org/event/bible-study-78/
CATEGORIES:Church
ATTACH;FMTTYPE=image/jpeg:https://norwichag.org/wp-content/uploads/2023/04/bible-gca27f028e_640.jpg
END:VEVENT
BEGIN:VEVENT
DTSTART;TZID=America/New_York:20231112T180000
DTEND;TZID=America/New_York:20231112T193000
DTSTAMP:20260424T185119
CREATED:20231024T205007Z
LAST-MODIFIED:20231024T205007Z
UID:10607-1699812000-1699817400@norwichag.org
SUMMARY:Revival Cry Prayer Meeting
DESCRIPTION:Join us tonight as we pray for our missionaries and the people they serve!
URL:https://norwichag.org/event/revival-cry-prayer-meeting-47/
CATEGORIES:Church
ATTACH;FMTTYPE=image/jpeg:https://norwichag.org/wp-content/uploads/2020/06/guy-2617866_640.jpg
END:VEVENT
BEGIN:VEVENT
DTSTART;TZID=America/New_York:20231112T093000
DTEND;TZID=America/New_York:20231112T110000
DTSTAMP:20260424T185119
CREATED:20231024T201857Z
LAST-MODIFIED:20231024T201857Z
UID:10603-1699781400-1699786800@norwichag.org
SUMMARY:Missions Sunday
DESCRIPTION:Join us for worship and please remember our missionaries in prayer and giving.
URL:https://norwichag.org/event/missions-sunday-44/
CATEGORIES:Church
ATTACH;FMTTYPE=image/jpeg:https://norwichag.org/wp-content/uploads/2019/10/earth-1913996_640.jpg
END:VEVENT
BEGIN:VEVENT
DTSTART;TZID=America/New_York:20231111T090000
DTEND;TZID=America/New_York:20231111T110000
DTSTAMP:20260424T185119
CREATED:20231024T195123Z
LAST-MODIFIED:20231024T195123Z
UID:10592-1699693200-1699700400@norwichag.org
SUMMARY:Men's Breakfast
DESCRIPTION:All men are invited to join us for a time of food\, friendship and prayer.\nPlease bring a breakfast item to share.\nAll men 16 yrs. and up are welcome!
URL:https://norwichag.org/event/mens-breakfast-38/
CATEGORIES:Church
ATTACH;FMTTYPE=image/jpeg:https://norwichag.org/wp-content/uploads/2020/03/egg-806081_640.jpg
END:VEVENT
BEGIN:VEVENT
DTSTART;TZID=America/New_York:20231111T060000
DTEND;TZID=America/New_York:20231111T060000
DTSTAMP:20260424T185119
CREATED:20231024T204830Z
LAST-MODIFIED:20231024T204830Z
UID:10605-1699682400-1699682400@norwichag.org
SUMMARY:Veteran's Day
DESCRIPTION:Thank you Veterans for serving our country!
URL:https://norwichag.org/event/veterans-day/
CATEGORIES:Church
ATTACH;FMTTYPE=image/jpeg:https://norwichag.org/wp-content/uploads/2018/05/memorial-day-1798725_640.jpg
END:VEVENT
BEGIN:VEVENT
DTSTART;TZID=America/New_York:20231110T103000
DTEND;TZID=America/New_York:20231110T120000
DTSTAMP:20260424T185119
CREATED:20231024T200141Z
LAST-MODIFIED:20231031T162918Z
UID:10596-1699612200-1699617600@norwichag.org
SUMMARY:Ladies Bible Study
DESCRIPTION:Please join us for our Ladies Bible Study.\nAll women are welcome!
URL:https://norwichag.org/event/ladies-bible-study-12/
CATEGORIES:Church
ATTACH;FMTTYPE=image/jpeg:https://norwichag.org/wp-content/uploads/2021/03/tea-1221477_640.jpg
END:VEVENT
BEGIN:VEVENT
DTSTART;TZID=America/New_York:20231108T183000
DTEND;TZID=America/New_York:20231108T200000
DTSTAMP:20260424T185119
CREATED:20231024T194816Z
LAST-MODIFIED:20231024T194816Z
UID:10590-1699468200-1699473600@norwichag.org
SUMMARY:Bible Study
DESCRIPTION:Join us as we continue our study of the Book of Job.\nAll are welcome!
URL:https://norwichag.org/event/bible-study-77/
CATEGORIES:Church
ATTACH;FMTTYPE=image/jpeg:https://norwichag.org/wp-content/uploads/2023/04/bible-gca27f028e_640.jpg
END:VEVENT
BEGIN:VEVENT
DTSTART;TZID=America/New_York:20231107T060000
DTEND;TZID=America/New_York:20231107T060000
DTSTAMP:20260424T185119
CREATED:20231024T200009Z
LAST-MODIFIED:20231024T200009Z
UID:10594-1699336800-1699336800@norwichag.org
SUMMARY:Election Day
DESCRIPTION:November 7th is Election Day.\nPlease pray for God’s will in our elections and government and remember to VOTE!
URL:https://norwichag.org/event/election-day/
CATEGORIES:Church
ATTACH;FMTTYPE=image/jpeg:https://norwichag.org/wp-content/uploads/2018/11/5464C818-DAA3-4FCD-88A9-C24B6C970F02.jpeg
END:VEVENT
BEGIN:VEVENT
DTSTART;TZID=America/New_York:20231105T120000
DTEND;TZID=America/New_York:20231105T150000
DTSTAMP:20260424T185119
CREATED:20231024T200635Z
LAST-MODIFIED:20231024T200635Z
UID:10598-1699185600-1699196400@norwichag.org
SUMMARY:Potluck Dinner
DESCRIPTION:We are having a potluck meal following the morning service.\nEveryone is welcome.\nPlease bring a dish to share.
URL:https://norwichag.org/event/potluck-dinner-2/
CATEGORIES:Church
ATTACH;FMTTYPE=image/jpeg:https://norwichag.org/wp-content/uploads/2016/12/12262013feast.jpg
END:VEVENT
BEGIN:VEVENT
DTSTART;TZID=America/New_York:20231105T093000
DTEND;TZID=America/New_York:20231105T110000
DTSTAMP:20260424T185119
CREATED:20231024T194657Z
LAST-MODIFIED:20231024T194657Z
UID:10588-1699176600-1699182000@norwichag.org
SUMMARY:Communion Sunday
DESCRIPTION:Join us on this special Sunday as we honor the Lord’s sacrifice by the partaking of Communion.
URL:https://norwichag.org/event/communion-sunday-43/
CATEGORIES:Church
ATTACH;FMTTYPE=image/jpeg:https://norwichag.org/wp-content/uploads/2020/12/cross-4433376_640-1-1.jpg
END:VEVENT
BEGIN:VEVENT
DTSTART;TZID=America/New_York:20231104T220000
DTEND;TZID=America/New_York:20231104T220000
DTSTAMP:20260424T185119
CREATED:20231024T193704Z
LAST-MODIFIED:20231024T193704Z
UID:10586-1699135200-1699135200@norwichag.org
SUMMARY:Reminder - Set Your Clocks Back 1 Hour
DESCRIPTION:Daylight Savings ends on Sunday\, November 5th.\nPlease remember to set your clock back 1 hour on Saturday\, November 4th!
URL:https://norwichag.org/event/reminder-set-your-clocks-back-1-hour/
CATEGORIES:Church
ATTACH;FMTTYPE=image/jpeg:https://norwichag.org/wp-content/uploads/2020/08/clock-334117_640.jpg
END:VEVENT
BEGIN:VEVENT
DTSTART;TZID=America/New_York:20231101T183000
DTEND;TZID=America/New_York:20231101T200000
DTSTAMP:20260424T185119
CREATED:20231024T193357Z
LAST-MODIFIED:20231024T193357Z
UID:10584-1698863400-1698868800@norwichag.org
SUMMARY:Bible Study
DESCRIPTION:Join us as we continue our study on the Book of Job.\nAll are welcome!
URL:https://norwichag.org/event/bible-study-76/
CATEGORIES:Church
ATTACH;FMTTYPE=image/jpeg:https://norwichag.org/wp-content/uploads/2023/04/bible-gca27f028e_640.jpg
END:VEVENT
BEGIN:VEVENT
DTSTART;TZID=America/New_York:20231029T180000
DTEND;TZID=America/New_York:20231029T193000
DTSTAMP:20260424T185119
CREATED:20231024T200812Z
LAST-MODIFIED:20231024T200812Z
UID:10600-1698602400-1698607800@norwichag.org
SUMMARY:Revival Cry Prayer Meeting
DESCRIPTION:Join us as we take time to pray for revival in our region\, country and the world.\nSpecial prayer will be made for this who are sick.\nAll are welcome!
URL:https://norwichag.org/event/revival-cry-prayer-meeting-46/
CATEGORIES:Church
ATTACH;FMTTYPE=image/jpeg:https://norwichag.org/wp-content/uploads/2021/03/hands-2168901_640-1.jpg
END:VEVENT
BEGIN:VEVENT
DTSTART;TZID=America/New_York:20231029T093000
DTEND;TZID=America/New_York:20231029T110000
DTSTAMP:20260424T185119
CREATED:20231024T193151Z
LAST-MODIFIED:20231024T193151Z
UID:10582-1698571800-1698577200@norwichag.org
SUMMARY:AM Service
DESCRIPTION:Join us as we worship God together.\nPastor Randy will be continuing the sermon series “Transformational Faith.”
URL:https://norwichag.org/event/am-service/
CATEGORIES:Church
ATTACH;FMTTYPE=image/jpeg:https://norwichag.org/wp-content/uploads/2021/01/people-2599550_640.jpg
END:VEVENT
BEGIN:VEVENT
DTSTART;TZID=America/New_York:20231028T090000
DTEND;TZID=America/New_York:20231028T120000
DTSTAMP:20260424T185119
CREATED:20231024T192815Z
LAST-MODIFIED:20231024T192815Z
UID:10580-1698483600-1698494400@norwichag.org
SUMMARY:Testimony/Q&A With Brenna Kate Simons
DESCRIPTION:Brenna Kate Simons from Alive In Christ Ministries\, will be sharing her testimony of God saving grace in her life and answering questions about ministry to the LGBTQ+ community.\nAll are welcome.
URL:https://norwichag.org/event/testimony-qa-with-brenna-kate-simons/
CATEGORIES:Church
ATTACH;FMTTYPE=image/jpeg:https://norwichag.org/wp-content/uploads/2023/10/Simons.jpeg
END:VEVENT
BEGIN:VEVENT
DTSTART;TZID=America/New_York:20231026T103000
DTEND;TZID=America/New_York:20231026T120000
DTSTAMP:20260424T185119
CREATED:20231024T192544Z
LAST-MODIFIED:20231024T192544Z
UID:10578-1698316200-1698321600@norwichag.org
SUMMARY:Ladies Bible Study
DESCRIPTION:We will be continuing our study of the Book of Ruth. All ladies welcome!
URL:https://norwichag.org/event/ladies-bible-study-11/
CATEGORIES:Church
ATTACH;FMTTYPE=image/jpeg:https://norwichag.org/wp-content/uploads/2019/07/560B931E-B2A9-49A7-8BCD-3EF8F91E89B1.jpeg
END:VEVENT
BEGIN:VEVENT
DTSTART;TZID=America/New_York:20231025T183000
DTEND;TZID=America/New_York:20231025T200000
DTSTAMP:20260424T185119
CREATED:20231024T155956Z
LAST-MODIFIED:20231024T155956Z
UID:10574-1698258600-1698264000@norwichag.org
SUMMARY:Bible Study
DESCRIPTION:Join us as we continue Job\, Chapter 6.
URL:https://norwichag.org/event/bible-study-75/
CATEGORIES:Church
ATTACH;FMTTYPE=image/jpeg:https://norwichag.org/wp-content/uploads/2023/04/bible-gca27f028e_640.jpg
END:VEVENT
BEGIN:VEVENT
DTSTART;TZID=America/New_York:20231022T093000
DTEND;TZID=America/New_York:20231022T110000
DTSTAMP:20260424T185119
CREATED:20231017T143325Z
LAST-MODIFIED:20231017T143325Z
UID:10560-1697967000-1697972400@norwichag.org
SUMMARY:Missions Sunday
DESCRIPTION:Please remember our missionaries and the people God called them to reach in your prayers and giving.
URL:https://norwichag.org/event/missions-sunday-43/
CATEGORIES:Church
ATTACH;FMTTYPE=image/jpeg:https://norwichag.org/wp-content/uploads/2018/01/bangkok-991198_640.jpg
END:VEVENT
BEGIN:VEVENT
DTSTART;TZID=America/New_York:20231018T183000
DTEND;TZID=America/New_York:20231018T200000
DTSTAMP:20260424T185119
CREATED:20231017T143002Z
LAST-MODIFIED:20231017T143002Z
UID:10558-1697653800-1697659200@norwichag.org
SUMMARY:Bible Study
DESCRIPTION:Join us tonight as we begin Job\, chapter 5.
URL:https://norwichag.org/event/bible-study-74/
CATEGORIES:Church
ATTACH;FMTTYPE=image/jpeg:https://norwichag.org/wp-content/uploads/2023/04/bible-gca27f028e_640.jpg
END:VEVENT
BEGIN:VEVENT
DTSTART;TZID=America/New_York:20231015T093000
DTEND;TZID=America/New_York:20231015T110000
DTSTAMP:20260424T185119
CREATED:20230928T212525Z
LAST-MODIFIED:20230928T212525Z
UID:10555-1697362200-1697367600@norwichag.org
SUMMARY:Evangelist Derek Brown
DESCRIPTION:Join us as Evangelist Derek Brown shares the Word!
URL:https://norwichag.org/event/evangelist-derek-brown/
CATEGORIES:Church
ATTACH;FMTTYPE=image/jpeg:https://norwichag.org/wp-content/uploads/2018/07/14316989_10155181956283356_1260869691412626889_n-1.jpg
END:VEVENT
BEGIN:VEVENT
DTSTART;TZID=America/New_York:20231014T090000
DTEND;TZID=America/New_York:20231014T110000
DTSTAMP:20260424T185119
CREATED:20230928T211355Z
LAST-MODIFIED:20230928T211355Z
UID:10548-1697274000-1697281200@norwichag.org
SUMMARY:Men's Breakfast
DESCRIPTION:Join us for food\, fellowship\, prayer and encouragement. Please bring a breakfast item to share. All men are welcome.
URL:https://norwichag.org/event/mens-breakfast-37/
CATEGORIES:Church
ATTACH;FMTTYPE=image/jpeg:https://norwichag.org/wp-content/uploads/2018/05/file5251285980231.jpg
END:VEVENT
BEGIN:VEVENT
DTSTART;TZID=America/New_York:20231012T103000
DTEND;TZID=America/New_York:20231012T120000
DTSTAMP:20260424T185119
CREATED:20230928T211126Z
LAST-MODIFIED:20230928T211126Z
UID:10546-1697106600-1697112000@norwichag.org
SUMMARY:Ladies Bible Study
DESCRIPTION:All ladies are invited to join us for our Bible Study of the book of Ruth!
URL:https://norwichag.org/event/ladies-bible-study-10/
CATEGORIES:Church
ATTACH;FMTTYPE=image/jpeg:https://norwichag.org/wp-content/uploads/2018/04/708BA7D3-F37C-41C4-8270-EACD5565A41F.jpeg
END:VEVENT
BEGIN:VEVENT
DTSTART;TZID=America/New_York:20231008T093000
DTEND;TZID=America/New_York:20231008T110000
DTSTAMP:20260424T185119
CREATED:20230928T212214Z
LAST-MODIFIED:20230928T212214Z
UID:10553-1696757400-1696762800@norwichag.org
SUMMARY:Special Speaker Warren Varney
DESCRIPTION:Make Plans to worship God with us. Warren Varney will be the speaker.
URL:https://norwichag.org/event/special-speaker-warren-varney-2/
CATEGORIES:Church
ATTACH;FMTTYPE=image/jpeg:https://norwichag.org/wp-content/uploads/2021/07/Varney.jpg
END:VEVENT
BEGIN:VEVENT
DTSTART;TZID=America/New_York:20231001T180000
DTEND;TZID=America/New_York:20231001T193000
DTSTAMP:20260424T185119
CREATED:20230928T210027Z
LAST-MODIFIED:20230928T210027Z
UID:10537-1696183200-1696188600@norwichag.org
SUMMARY:Revival Cry Prayer Meeting
DESCRIPTION:Make time to join us as we seek God for revival in New London County!
URL:https://norwichag.org/event/revival-cry-prayer-meeting-45/
CATEGORIES:Church
ATTACH;FMTTYPE=image/jpeg:https://norwichag.org/wp-content/uploads/2020/12/cross-4433376_640-1-1.jpg
END:VEVENT
BEGIN:VEVENT
DTSTART;TZID=America/New_York:20231001T093000
DTEND;TZID=America/New_York:20231001T110000
DTSTAMP:20260424T185119
CREATED:20230928T205745Z
LAST-MODIFIED:20230928T205745Z
UID:10535-1696152600-1696158000@norwichag.org
SUMMARY:Communion Sunday
DESCRIPTION:Join us as remember the Lord’s suffering death for our sin.
URL:https://norwichag.org/event/communion-sunday-42/
CATEGORIES:Church
ATTACH;FMTTYPE=image/jpeg:https://norwichag.org/wp-content/uploads/2019/03/holy-communion-3498484_640-1.jpg
END:VEVENT
BEGIN:VEVENT
DTSTART;TZID=America/New_York:20230928T103000
DTEND;TZID=America/New_York:20230928T120000
DTSTAMP:20260424T185119
CREATED:20230923T192839Z
LAST-MODIFIED:20230923T192839Z
UID:10531-1695897000-1695902400@norwichag.org
SUMMARY:Ladies Bible Study
DESCRIPTION:All ladies are invited to join us for our study of the Book of Ruth.
URL:https://norwichag.org/event/ladies-bible-study-9/
CATEGORIES:Church
ATTACH;FMTTYPE=image/jpeg:https://norwichag.org/wp-content/uploads/2020/05/bible-276067_640.jpg
END:VEVENT
BEGIN:VEVENT
DTSTART;TZID=America/New_York:20230927T183000
DTEND;TZID=America/New_York:20230927T200000
DTSTAMP:20260424T185119
CREATED:20230923T192414Z
LAST-MODIFIED:20230923T192414Z
UID:10529-1695839400-1695844800@norwichag.org
SUMMARY:Bible Study
DESCRIPTION:Join us as we conclude our study of Job\, chapter 5.
URL:https://norwichag.org/event/bible-study-73/
CATEGORIES:Church
ATTACH;FMTTYPE=image/jpeg:https://norwichag.org/wp-content/uploads/2023/04/bible-gca27f028e_640.jpg
END:VEVENT
BEGIN:VEVENT
DTSTART;TZID=America/New_York:20230924T180000
DTEND;TZID=America/New_York:20230924T193000
DTSTAMP:20260424T185119
CREATED:20230923T192120Z
LAST-MODIFIED:20230923T192120Z
UID:10527-1695578400-1695583800@norwichag.org
SUMMARY:Revival Cry Prayer Meeting
DESCRIPTION:Join us as we pray for the peace of Jerusalem and Israel in accordance with God’s word.
URL:https://norwichag.org/event/revival-cry-prayer-meeting-44/
CATEGORIES:Church
ATTACH;FMTTYPE=image/jpeg:https://norwichag.org/wp-content/uploads/2021/03/hands-2168901_640-1.jpg
END:VEVENT
BEGIN:VEVENT
DTSTART;TZID=America/New_York:20230924T093000
DTEND;TZID=America/New_York:20230924T230000
DTSTAMP:20260424T185119
CREATED:20230923T191812Z
LAST-MODIFIED:20230923T191812Z
UID:10525-1695547800-1695596400@norwichag.org
SUMMARY:Morning Worship Service
DESCRIPTION:Join us as we worship God together. Pastor Randy will be preaching the 2nd part of the sermon\, “Tansformational Faith – Judgment\, Part 2.” All welcome!
URL:https://norwichag.org/event/morning-worship-service-5/
CATEGORIES:Church
ATTACH;FMTTYPE=image/jpeg:https://norwichag.org/wp-content/uploads/2021/03/alabanza-4096468_640-1.jpg
END:VEVENT
END:VCALENDAR