BEGIN:VCALENDAR
VERSION:2.0
PRODID:-//Norwich Assembly of God - ECPv6.15.20//NONSGML v1.0//EN
CALSCALE:GREGORIAN
METHOD:PUBLISH
X-WR-CALNAME:Norwich Assembly of God
X-ORIGINAL-URL:https://norwichag.org
X-WR-CALDESC:Events for Norwich Assembly of God
REFRESH-INTERVAL;VALUE=DURATION:PT1H
X-Robots-Tag:noindex
X-PUBLISHED-TTL:PT1H
BEGIN:VTIMEZONE
TZID:America/New_York
BEGIN:DAYLIGHT
TZOFFSETFROM:-0500
TZOFFSETTO:-0400
TZNAME:EDT
DTSTART:20220313T070000
END:DAYLIGHT
BEGIN:STANDARD
TZOFFSETFROM:-0400
TZOFFSETTO:-0500
TZNAME:EST
DTSTART:20221106T060000
END:STANDARD
BEGIN:DAYLIGHT
TZOFFSETFROM:-0500
TZOFFSETTO:-0400
TZNAME:EDT
DTSTART:20230312T070000
END:DAYLIGHT
BEGIN:STANDARD
TZOFFSETFROM:-0400
TZOFFSETTO:-0500
TZNAME:EST
DTSTART:20231105T060000
END:STANDARD
BEGIN:DAYLIGHT
TZOFFSETFROM:-0500
TZOFFSETTO:-0400
TZNAME:EDT
DTSTART:20240310T070000
END:DAYLIGHT
BEGIN:STANDARD
TZOFFSETFROM:-0400
TZOFFSETTO:-0500
TZNAME:EST
DTSTART:20241103T060000
END:STANDARD
END:VTIMEZONE
BEGIN:VEVENT
DTSTART;TZID=America/New_York:20231217T093000
DTEND;TZID=America/New_York:20231217T113000
DTSTAMP:20260424T120345
CREATED:20231122T164147Z
LAST-MODIFIED:20231122T164147Z
UID:10673-1702805400-1702812600@norwichag.org
SUMMARY:AM Worship Service
DESCRIPTION:Join us as we worship Jesus together!
URL:https://norwichag.org/event/am-worship-service/
CATEGORIES:Church
ATTACH;FMTTYPE=image/jpeg:https://norwichag.org/wp-content/uploads/2021/03/alabanza-4096468_640-1.jpg
END:VEVENT
BEGIN:VEVENT
DTSTART;TZID=America/New_York:20231216T130000
DTEND;TZID=America/New_York:20231216T150000
DTSTAMP:20260424T120345
CREATED:20231122T163750Z
LAST-MODIFIED:20231122T163750Z
UID:10671-1702731600-1702738800@norwichag.org
SUMMARY:Outreach Team
DESCRIPTION:Everyone is invited to join us as we go downtown to share the love of Christ through prayer\, food and the Gospel! Please meet at the church for prayer.
URL:https://norwichag.org/event/outreach-team-5/
CATEGORIES:Church
ATTACH;FMTTYPE=image/jpeg:https://norwichag.org/wp-content/uploads/2020/01/hands-2168901_640.jpg
END:VEVENT
BEGIN:VEVENT
DTSTART;TZID=America/New_York:20231214T103000
DTEND;TZID=America/New_York:20231214T120000
DTSTAMP:20260424T120345
CREATED:20231122T163525Z
LAST-MODIFIED:20231122T163525Z
UID:10669-1702549800-1702555200@norwichag.org
SUMMARY:Ladies Bible Study
DESCRIPTION:All ladies are invited to this time of study\, prayer and sharing!
URL:https://norwichag.org/event/ladies-bible-study-14/
CATEGORIES:Church
ATTACH;FMTTYPE=image/jpeg:https://norwichag.org/wp-content/uploads/2017/09/IMG_0067.jpg
END:VEVENT
BEGIN:VEVENT
DTSTART;TZID=America/New_York:20231213T183000
DTEND;TZID=America/New_York:20231213T200000
DTSTAMP:20260424T120345
CREATED:20231122T163303Z
LAST-MODIFIED:20231122T163303Z
UID:10667-1702492200-1702497600@norwichag.org
SUMMARY:Bible Study
DESCRIPTION:Join us as we continue our study of the book of Job.
URL:https://norwichag.org/event/bible-study-81/
CATEGORIES:Church
ATTACH;FMTTYPE=image/jpeg:https://norwichag.org/wp-content/uploads/2023/04/bible-gca27f028e_640.jpg
END:VEVENT
BEGIN:VEVENT
DTSTART;TZID=America/New_York:20231210T113000
DTEND;TZID=America/New_York:20231210T143000
DTSTAMP:20260424T120345
CREATED:20231122T161302Z
LAST-MODIFIED:20231122T161302Z
UID:10665-1702207800-1702218600@norwichag.org
SUMMARY:Church Christmas Dinner
DESCRIPTION:Join us after the service for food and fellowship as we prepare for this season remember the birth of Jesus.\nEveryone is welcome!
URL:https://norwichag.org/event/church-christmas-dinner/
CATEGORIES:Church
ATTACH;FMTTYPE=image/jpeg:https://norwichag.org/wp-content/uploads/2015/12/DSCN5787-2.jpg
END:VEVENT
BEGIN:VEVENT
DTSTART;TZID=America/New_York:20231210T093000
DTEND;TZID=America/New_York:20231210T113000
DTSTAMP:20260424T120345
CREATED:20231122T160024Z
LAST-MODIFIED:20231122T160024Z
UID:10663-1702200600-1702207800@norwichag.org
SUMMARY:Missions Sunday
DESCRIPTION:Please remember our missionaries in prayer and giving.
URL:https://norwichag.org/event/missions-sunday-45/
CATEGORIES:Church
ATTACH;FMTTYPE=image/png:https://norwichag.org/wp-content/uploads/2020/08/web-3120321_640.png
END:VEVENT
BEGIN:VEVENT
DTSTART;TZID=America/New_York:20231209T090000
DTEND;TZID=America/New_York:20231209T110000
DTSTAMP:20260424T120345
CREATED:20231122T154733Z
LAST-MODIFIED:20231122T154733Z
UID:10661-1702112400-1702119600@norwichag.org
SUMMARY:Men's Breakfast
DESCRIPTION:All men are invited to join us for a time of food\, fellowship\, prayer and encouragement.\nPlease bring a breakfast item to share.
URL:https://norwichag.org/event/mens-breakfast-39/
CATEGORIES:Church
ATTACH;FMTTYPE=image/jpeg:https://norwichag.org/wp-content/uploads/2019/05/B8356402-7486-4095-8015-CE897D558379.jpeg
END:VEVENT
BEGIN:VEVENT
DTSTART;TZID=America/New_York:20231206T183000
DTEND;TZID=America/New_York:20231206T200000
DTSTAMP:20260424T120345
CREATED:20231122T154459Z
LAST-MODIFIED:20231122T154459Z
UID:10659-1701887400-1701892800@norwichag.org
SUMMARY:Bible Study
DESCRIPTION:Join us as we study the Book of Job together.
URL:https://norwichag.org/event/bible-study-80/
CATEGORIES:Church
ATTACH;FMTTYPE=image/jpeg:https://norwichag.org/wp-content/uploads/2023/04/bible-gca27f028e_640.jpg
END:VEVENT
BEGIN:VEVENT
DTSTART;TZID=America/New_York:20231203T093000
DTEND;TZID=America/New_York:20231203T113000
DTSTAMP:20260424T120345
CREATED:20231122T154231Z
LAST-MODIFIED:20231122T154231Z
UID:10657-1701595800-1701603000@norwichag.org
SUMMARY:Communion Sunday
DESCRIPTION:Please join us as we worship God and observe Holy Communion!
URL:https://norwichag.org/event/communion-sunday-44/
CATEGORIES:Church
ATTACH;FMTTYPE=image/jpeg:https://norwichag.org/wp-content/uploads/2020/02/cross-1149878_640-1.jpg
END:VEVENT
BEGIN:VEVENT
DTSTART;TZID=America/New_York:20231130T103000
DTEND;TZID=America/New_York:20231130T120000
DTSTAMP:20260424T120345
CREATED:20231024T211808Z
LAST-MODIFIED:20231024T211808Z
UID:10629-1701340200-1701345600@norwichag.org
SUMMARY:Ladies Bible Study
DESCRIPTION:All ladies are invited to join us as we study God’s word together.\nPlease invite a friend!
URL:https://norwichag.org/event/ladies-bible-study-13/
CATEGORIES:Church
ATTACH;FMTTYPE=image/jpeg:https://norwichag.org/wp-content/uploads/2018/04/708BA7D3-F37C-41C4-8270-EACD5565A41F.jpeg
END:VEVENT
BEGIN:VEVENT
DTSTART;TZID=America/New_York:20231129T183000
DTEND;TZID=America/New_York:20231129T200000
DTSTAMP:20260424T120345
CREATED:20231024T211415Z
LAST-MODIFIED:20231024T211415Z
UID:10625-1701282600-1701288000@norwichag.org
SUMMARY:Bible Study
DESCRIPTION:Please join us for our study of the Book of Job.\nAll are welcome!
URL:https://norwichag.org/event/bible-study-79/
CATEGORIES:Church
ATTACH;FMTTYPE=image/jpeg:https://norwichag.org/wp-content/uploads/2023/04/bible-gca27f028e_640.jpg
END:VEVENT
BEGIN:VEVENT
DTSTART;TZID=America/New_York:20231126T180000
DTEND;TZID=America/New_York:20231126T193000
DTSTAMP:20260424T120345
CREATED:20231024T211612Z
LAST-MODIFIED:20231024T211612Z
UID:10627-1701021600-1701027000@norwichag.org
SUMMARY:Revival Cry Prayer Meeting
DESCRIPTION:Join us as we seek God together for revival.\nWe also pray for the needs of the church family.\nAll are welcome!
URL:https://norwichag.org/event/revival-cry-prayer-meeting-49/
CATEGORIES:Church
ATTACH;FMTTYPE=image/png:https://norwichag.org/wp-content/uploads/2019/10/god-2025655_640.png
END:VEVENT
BEGIN:VEVENT
DTSTART;TZID=America/New_York:20231126T093000
DTEND;TZID=America/New_York:20231126T110000
DTSTAMP:20260424T120345
CREATED:20231024T211253Z
LAST-MODIFIED:20231024T211253Z
UID:10623-1700991000-1700996400@norwichag.org
SUMMARY:Worship Service
DESCRIPTION:Join us as we lift up the name of Jesus together!
URL:https://norwichag.org/event/worship-service-5/
CATEGORIES:Church
ATTACH;FMTTYPE=image/jpeg:https://norwichag.org/wp-content/uploads/2020/02/bible-1948778_640.jpg
END:VEVENT
BEGIN:VEVENT
DTSTART;TZID=America/New_York:20231125T130000
DTEND;TZID=America/New_York:20231125T150000
DTSTAMP:20260424T120345
CREATED:20231024T211011Z
LAST-MODIFIED:20231024T211011Z
UID:10621-1700917200-1700924400@norwichag.org
SUMMARY:Outreach Team
DESCRIPTION:Join us as we go downtown to serve pizza\, coffee\, prayer and JESUS!\nPlease meet first at the church.\nAll are welcome to join and please remember to pray for the city!
URL:https://norwichag.org/event/outreach-team-4/
CATEGORIES:Church
ATTACH;FMTTYPE=image/png:https://norwichag.org/wp-content/uploads/2020/01/hands-1939895_640.png
END:VEVENT
BEGIN:VEVENT
DTSTART;TZID=America/New_York:20231123T060000
DTEND;TZID=America/New_York:20231123T060000
DTSTAMP:20260424T120345
CREATED:20231024T210454Z
LAST-MODIFIED:20231024T210454Z
UID:10617-1700719200-1700719200@norwichag.org
SUMMARY:Happy Thanksgiving!
DESCRIPTION:Have a wonderful and Blessed Thanksgiving!
URL:https://norwichag.org/event/happy-thanksgiving/
CATEGORIES:Church
ATTACH;FMTTYPE=image/jpeg:https://norwichag.org/wp-content/uploads/2019/11/A15FB754-7FAC-45F7-9256-82A2223E5F9E.jpeg
END:VEVENT
BEGIN:VEVENT
DTSTART;TZID=America/New_York:20231120T103000
DTEND;TZID=America/New_York:20231120T123000
DTSTAMP:20260424T120345
CREATED:20231024T205904Z
LAST-MODIFIED:20231024T205904Z
UID:10613-1700476200-1700483400@norwichag.org
SUMMARY:Thanksgiving Basket Delivery
DESCRIPTION:Volunteers are needed to help deliver Thanksgiving Baskets to the schools in the community.\nMake plans to help those in need.
URL:https://norwichag.org/event/thanksgiving-basket-delivery-5/
CATEGORIES:Church
ATTACH;FMTTYPE=image/png:https://norwichag.org/wp-content/uploads/2019/11/610374C0-61D9-4757-AFED-6006D674A0E2.png
END:VEVENT
BEGIN:VEVENT
DTSTART;TZID=America/New_York:20231119T183000
DTEND;TZID=America/New_York:20231119T200000
DTSTAMP:20260424T120345
CREATED:20231031T205446Z
LAST-MODIFIED:20231031T205446Z
UID:10644-1700418600-1700424000@norwichag.org
SUMMARY:Revival Service With Joe Tamborra
DESCRIPTION:Join us for for special services with Evangelist Joe Tamborra and friends.
URL:https://norwichag.org/event/revival-service-with-joe-tamborra/
CATEGORIES:Church
ATTACH;FMTTYPE=image/jpeg:https://norwichag.org/wp-content/uploads/2023/05/23032816_10154919693567791_1683485307236531206_n.jpg
END:VEVENT
BEGIN:VEVENT
DTSTART;TZID=America/New_York:20231119T130000
DTEND;TZID=America/New_York:20231119T130000
DTSTAMP:20260424T120345
CREATED:20231024T210721Z
LAST-MODIFIED:20231024T210721Z
UID:10619-1700398800-1700398800@norwichag.org
SUMMARY:Thanksgiving Turkeys Due
DESCRIPTION:Please bring your turkey in for the Thanksgiving outreach.\nThank you.
URL:https://norwichag.org/event/thanksgiving-turkeys-due/
CATEGORIES:Church
ATTACH;FMTTYPE=image/jpeg:https://norwichag.org/wp-content/uploads/2018/11/Turkey.jpg
END:VEVENT
BEGIN:VEVENT
DTSTART;TZID=America/New_York:20231119T093000
DTEND;TZID=America/New_York:20231119T110000
DTSTAMP:20260424T120345
CREATED:20231024T205701Z
LAST-MODIFIED:20231024T205701Z
UID:10611-1700386200-1700391600@norwichag.org
SUMMARY:Thanksgiving Sunday
DESCRIPTION:Join us as we worship God and thank Him for the freedom we have as believers in the Lord Jesus Christ!
URL:https://norwichag.org/event/thanksgiving-sunday/
CATEGORIES:Church
ATTACH;FMTTYPE=image/jpeg:https://norwichag.org/wp-content/uploads/2015/09/IMG_1341.jpg
END:VEVENT
BEGIN:VEVENT
DTSTART;TZID=America/New_York:20231118T183000
DTEND;TZID=America/New_York:20231118T200000
DTSTAMP:20260424T120345
CREATED:20231031T205229Z
LAST-MODIFIED:20231031T205229Z
UID:10642-1700332200-1700337600@norwichag.org
SUMMARY:Revival Services with Evangelist Joe Tamborra
DESCRIPTION:Join us for for special services with Evangelist Joe Tamborra and friends.
URL:https://norwichag.org/event/revival-services-with-evangelist-joe-tamborra/
CATEGORIES:Church
ATTACH;FMTTYPE=image/jpeg:https://norwichag.org/wp-content/uploads/2023/05/23032816_10154919693567791_1683485307236531206_n.jpg
END:VEVENT
BEGIN:VEVENT
DTSTART;TZID=America/New_York:20231117T180000
DTEND;TZID=America/New_York:20231117T200000
DTSTAMP:20260424T120346
CREATED:20231031T205058Z
LAST-MODIFIED:20231031T205058Z
UID:10640-1700244000-1700251200@norwichag.org
SUMMARY:Revival Services With Bro. Joe Tamborra
DESCRIPTION:Join us for for special services with Evangelist Joe Tamborra and friends.
URL:https://norwichag.org/event/revival-services-with-bro-joe-tamborra/
CATEGORIES:Church
ATTACH;FMTTYPE=image/jpeg:https://norwichag.org/wp-content/uploads/2023/05/23032816_10154919693567791_1683485307236531206_n.jpg
END:VEVENT
BEGIN:VEVENT
DTSTART;TZID=America/New_York:20231115T183000
DTEND;TZID=America/New_York:20231115T200000
DTSTAMP:20260424T120346
CREATED:20231024T205312Z
LAST-MODIFIED:20231024T205312Z
UID:10609-1700073000-1700078400@norwichag.org
SUMMARY:Bible Study
DESCRIPTION:Please join us as we continue our study of the Book of Job.\nAll are welcome!
URL:https://norwichag.org/event/bible-study-78/
CATEGORIES:Church
ATTACH;FMTTYPE=image/jpeg:https://norwichag.org/wp-content/uploads/2023/04/bible-gca27f028e_640.jpg
END:VEVENT
BEGIN:VEVENT
DTSTART;TZID=America/New_York:20231112T180000
DTEND;TZID=America/New_York:20231112T193000
DTSTAMP:20260424T120346
CREATED:20231024T205007Z
LAST-MODIFIED:20231024T205007Z
UID:10607-1699812000-1699817400@norwichag.org
SUMMARY:Revival Cry Prayer Meeting
DESCRIPTION:Join us tonight as we pray for our missionaries and the people they serve!
URL:https://norwichag.org/event/revival-cry-prayer-meeting-47/
CATEGORIES:Church
ATTACH;FMTTYPE=image/jpeg:https://norwichag.org/wp-content/uploads/2020/06/guy-2617866_640.jpg
END:VEVENT
BEGIN:VEVENT
DTSTART;TZID=America/New_York:20231112T093000
DTEND;TZID=America/New_York:20231112T110000
DTSTAMP:20260424T120346
CREATED:20231024T201857Z
LAST-MODIFIED:20231024T201857Z
UID:10603-1699781400-1699786800@norwichag.org
SUMMARY:Missions Sunday
DESCRIPTION:Join us for worship and please remember our missionaries in prayer and giving.
URL:https://norwichag.org/event/missions-sunday-44/
CATEGORIES:Church
ATTACH;FMTTYPE=image/jpeg:https://norwichag.org/wp-content/uploads/2019/10/earth-1913996_640.jpg
END:VEVENT
BEGIN:VEVENT
DTSTART;TZID=America/New_York:20231111T090000
DTEND;TZID=America/New_York:20231111T110000
DTSTAMP:20260424T120346
CREATED:20231024T195123Z
LAST-MODIFIED:20231024T195123Z
UID:10592-1699693200-1699700400@norwichag.org
SUMMARY:Men's Breakfast
DESCRIPTION:All men are invited to join us for a time of food\, friendship and prayer.\nPlease bring a breakfast item to share.\nAll men 16 yrs. and up are welcome!
URL:https://norwichag.org/event/mens-breakfast-38/
CATEGORIES:Church
ATTACH;FMTTYPE=image/jpeg:https://norwichag.org/wp-content/uploads/2020/03/egg-806081_640.jpg
END:VEVENT
BEGIN:VEVENT
DTSTART;TZID=America/New_York:20231111T060000
DTEND;TZID=America/New_York:20231111T060000
DTSTAMP:20260424T120346
CREATED:20231024T204830Z
LAST-MODIFIED:20231024T204830Z
UID:10605-1699682400-1699682400@norwichag.org
SUMMARY:Veteran's Day
DESCRIPTION:Thank you Veterans for serving our country!
URL:https://norwichag.org/event/veterans-day/
CATEGORIES:Church
ATTACH;FMTTYPE=image/jpeg:https://norwichag.org/wp-content/uploads/2018/05/memorial-day-1798725_640.jpg
END:VEVENT
BEGIN:VEVENT
DTSTART;TZID=America/New_York:20231110T103000
DTEND;TZID=America/New_York:20231110T120000
DTSTAMP:20260424T120346
CREATED:20231024T200141Z
LAST-MODIFIED:20231031T162918Z
UID:10596-1699612200-1699617600@norwichag.org
SUMMARY:Ladies Bible Study
DESCRIPTION:Please join us for our Ladies Bible Study.\nAll women are welcome!
URL:https://norwichag.org/event/ladies-bible-study-12/
CATEGORIES:Church
ATTACH;FMTTYPE=image/jpeg:https://norwichag.org/wp-content/uploads/2021/03/tea-1221477_640.jpg
END:VEVENT
BEGIN:VEVENT
DTSTART;TZID=America/New_York:20231108T183000
DTEND;TZID=America/New_York:20231108T200000
DTSTAMP:20260424T120346
CREATED:20231024T194816Z
LAST-MODIFIED:20231024T194816Z
UID:10590-1699468200-1699473600@norwichag.org
SUMMARY:Bible Study
DESCRIPTION:Join us as we continue our study of the Book of Job.\nAll are welcome!
URL:https://norwichag.org/event/bible-study-77/
CATEGORIES:Church
ATTACH;FMTTYPE=image/jpeg:https://norwichag.org/wp-content/uploads/2023/04/bible-gca27f028e_640.jpg
END:VEVENT
BEGIN:VEVENT
DTSTART;TZID=America/New_York:20231107T060000
DTEND;TZID=America/New_York:20231107T060000
DTSTAMP:20260424T120346
CREATED:20231024T200009Z
LAST-MODIFIED:20231024T200009Z
UID:10594-1699336800-1699336800@norwichag.org
SUMMARY:Election Day
DESCRIPTION:November 7th is Election Day.\nPlease pray for God’s will in our elections and government and remember to VOTE!
URL:https://norwichag.org/event/election-day/
CATEGORIES:Church
ATTACH;FMTTYPE=image/jpeg:https://norwichag.org/wp-content/uploads/2018/11/5464C818-DAA3-4FCD-88A9-C24B6C970F02.jpeg
END:VEVENT
BEGIN:VEVENT
DTSTART;TZID=America/New_York:20231105T120000
DTEND;TZID=America/New_York:20231105T150000
DTSTAMP:20260424T120346
CREATED:20231024T200635Z
LAST-MODIFIED:20231024T200635Z
UID:10598-1699185600-1699196400@norwichag.org
SUMMARY:Potluck Dinner
DESCRIPTION:We are having a potluck meal following the morning service.\nEveryone is welcome.\nPlease bring a dish to share.
URL:https://norwichag.org/event/potluck-dinner-2/
CATEGORIES:Church
ATTACH;FMTTYPE=image/jpeg:https://norwichag.org/wp-content/uploads/2016/12/12262013feast.jpg
END:VEVENT
END:VCALENDAR